BEGIN:VCALENDAR
VERSION:2.0
PRODID:-//DieKulturMacherin - ECPv6.15.20//NONSGML v1.0//EN
CALSCALE:GREGORIAN
METHOD:PUBLISH
X-WR-CALNAME:DieKulturMacherin
X-ORIGINAL-URL:https://diekulturmacherin.de
X-WR-CALDESC:Veranstaltungen für DieKulturMacherin
REFRESH-INTERVAL;VALUE=DURATION:PT1H
X-Robots-Tag:noindex
X-PUBLISHED-TTL:PT1H
BEGIN:VTIMEZONE
TZID:Europe/Berlin
BEGIN:DAYLIGHT
TZOFFSETFROM:+0100
TZOFFSETTO:+0200
TZNAME:CEST
DTSTART:20250330T010000
END:DAYLIGHT
BEGIN:STANDARD
TZOFFSETFROM:+0200
TZOFFSETTO:+0100
TZNAME:CET
DTSTART:20251026T010000
END:STANDARD
BEGIN:DAYLIGHT
TZOFFSETFROM:+0100
TZOFFSETTO:+0200
TZNAME:CEST
DTSTART:20260329T010000
END:DAYLIGHT
BEGIN:STANDARD
TZOFFSETFROM:+0200
TZOFFSETTO:+0100
TZNAME:CET
DTSTART:20261025T010000
END:STANDARD
BEGIN:DAYLIGHT
TZOFFSETFROM:+0100
TZOFFSETTO:+0200
TZNAME:CEST
DTSTART:20270328T010000
END:DAYLIGHT
BEGIN:STANDARD
TZOFFSETFROM:+0200
TZOFFSETTO:+0100
TZNAME:CET
DTSTART:20271031T010000
END:STANDARD
END:VTIMEZONE
BEGIN:VEVENT
DTSTART;TZID=Europe/Berlin:20260602T183000
DTEND;TZID=Europe/Berlin:20260602T193000
DTSTAMP:20260421T233012
CREATED:20260220T112226Z
LAST-MODIFIED:20260220T112226Z
UID:15403-1780425000-1780428600@diekulturmacherin.de
SUMMARY:Mordwind Rügen
DESCRIPTION:
URL:https://diekulturmacherin.de/termin/mordwind-ruegen-4/
LOCATION:Burg Storkow
END:VEVENT
BEGIN:VEVENT
DTSTART;TZID=Europe/Berlin:20260606T193000
DTEND;TZID=Europe/Berlin:20260606T200000
DTSTAMP:20260421T233013
CREATED:20250729T130252Z
LAST-MODIFIED:20250729T130252Z
UID:14132-1780774200-1780776000@diekulturmacherin.de
SUMMARY:Jung (Ü50) sucht...
DESCRIPTION:
URL:https://diekulturmacherin.de/termin/jung-ue50-sucht-9/
LOCATION:Ammersbek
END:VEVENT
BEGIN:VEVENT
DTSTART;TZID=Europe/Berlin:20260608T183000
DTEND;TZID=Europe/Berlin:20260608T193000
DTSTAMP:20260421T233013
CREATED:20251125T140621Z
LAST-MODIFIED:20251125T140621Z
UID:14773-1780943400-1780947000@diekulturmacherin.de
SUMMARY:Doch noch ein neuer Tag
DESCRIPTION:
URL:https://diekulturmacherin.de/termin/doch-noch-ein-neuer-tag/
LOCATION:Cottbus
END:VEVENT
BEGIN:VEVENT
DTSTART;TZID=Europe/Berlin:20260609T100000
DTEND;TZID=Europe/Berlin:20260609T110000
DTSTAMP:20260421T233013
CREATED:20251125T140709Z
LAST-MODIFIED:20251125T140709Z
UID:14775-1780999200-1781002800@diekulturmacherin.de
SUMMARY:Doch noch ein neuer Tag
DESCRIPTION:
URL:https://diekulturmacherin.de/termin/doch-noch-ein-neuer-tag-2/
LOCATION:Cottbus
END:VEVENT
BEGIN:VEVENT
DTSTART;TZID=Europe/Berlin:20260610T080000
DTEND;TZID=Europe/Berlin:20260610T090000
DTSTAMP:20260421T233013
CREATED:20250924T160248Z
LAST-MODIFIED:20250924T160248Z
UID:14418-1781078400-1781082000@diekulturmacherin.de
SUMMARY:Die Traumspinnerin
DESCRIPTION:
URL:https://diekulturmacherin.de/termin/die-traumspinnerin-8/
LOCATION:Hohenweststedt
END:VEVENT
BEGIN:VEVENT
DTSTART;TZID=Europe/Berlin:20260610T080000
DTEND;TZID=Europe/Berlin:20260610T090000
DTSTAMP:20260421T233013
CREATED:20260219T125041Z
LAST-MODIFIED:20260219T125041Z
UID:15385-1781078400-1781082000@diekulturmacherin.de
SUMMARY:Die wilden Kerle
DESCRIPTION:
URL:https://diekulturmacherin.de/termin/die-wilden-kerle-305/
LOCATION:BAd Dürrheim
END:VEVENT
BEGIN:VEVENT
DTSTART;TZID=Europe/Berlin:20260610T100000
DTEND;TZID=Europe/Berlin:20260610T110000
DTSTAMP:20260421T233013
CREATED:20260216T091416Z
LAST-MODIFIED:20260216T091416Z
UID:15352-1781085600-1781089200@diekulturmacherin.de
SUMMARY:Schüsse in der Stille
DESCRIPTION:
URL:https://diekulturmacherin.de/termin/schuesse-in-der-stille-12/
LOCATION:Großräschen
END:VEVENT
BEGIN:VEVENT
DTSTART;TZID=Europe/Berlin:20260610T103000
DTEND;TZID=Europe/Berlin:20260610T113000
DTSTAMP:20260421T233013
CREATED:20250924T160342Z
LAST-MODIFIED:20250924T160342Z
UID:14420-1781087400-1781091000@diekulturmacherin.de
SUMMARY:Die Traumspinnerin
DESCRIPTION:
URL:https://diekulturmacherin.de/termin/die-traumspinnerin-9/
LOCATION:Hohenweststedt
END:VEVENT
BEGIN:VEVENT
DTSTART;TZID=Europe/Berlin:20260610T103000
DTEND;TZID=Europe/Berlin:20260610T113000
DTSTAMP:20260421T233013
CREATED:20260219T125139Z
LAST-MODIFIED:20260219T125139Z
UID:15388-1781087400-1781091000@diekulturmacherin.de
SUMMARY:Die wilden Kerle
DESCRIPTION:
URL:https://diekulturmacherin.de/termin/die-wilden-kerle-306/
LOCATION:BAd Dürrheim
END:VEVENT
BEGIN:VEVENT
DTSTART;TZID=Europe/Berlin:20260610T180000
DTEND;TZID=Europe/Berlin:20260610T190000
DTSTAMP:20260421T233013
CREATED:20260216T091705Z
LAST-MODIFIED:20260216T091705Z
UID:15355-1781114400-1781118000@diekulturmacherin.de
SUMMARY:Schüsse in der Stille
DESCRIPTION:
URL:https://diekulturmacherin.de/termin/schuesse-in-der-stille-13/
END:VEVENT
BEGIN:VEVENT
DTSTART;TZID=Europe/Berlin:20260610T193000
DTEND;TZID=Europe/Berlin:20260610T210000
DTSTAMP:20260421T233013
CREATED:20251024T093730Z
LAST-MODIFIED:20251024T093730Z
UID:14602-1781119800-1781125200@diekulturmacherin.de
SUMMARY:Als der Sturm kam
DESCRIPTION:
URL:https://diekulturmacherin.de/termin/als-der-sturm-kam-2/
LOCATION:Henstedt-Ulzburg
END:VEVENT
BEGIN:VEVENT
DTSTART;TZID=Europe/Berlin:20260613T200000
DTEND;TZID=Europe/Berlin:20260613T220000
DTSTAMP:20260421T233013
CREATED:20250611T101030Z
LAST-MODIFIED:20250611T101030Z
UID:13816-1781380800-1781388000@diekulturmacherin.de
SUMMARY:Fiktion trifft Realität
DESCRIPTION:
URL:https://diekulturmacherin.de/termin/fiktion-trifft-realitaet-3/
LOCATION:Korb
END:VEVENT
BEGIN:VEVENT
DTSTART;TZID=Europe/Berlin:20260614T100000
DTEND;TZID=Europe/Berlin:20260614T110000
DTSTAMP:20260421T233013
CREATED:20251104T133150Z
LAST-MODIFIED:20251104T133150Z
UID:14668-1781431200-1781434800@diekulturmacherin.de
SUMMARY:Zeitenbummlerin
DESCRIPTION:
URL:https://diekulturmacherin.de/termin/zeitenbummlerin-11/
LOCATION:Kerpen
END:VEVENT
BEGIN:VEVENT
DTSTART;TZID=Europe/Berlin:20260616T090000
DTEND;TZID=Europe/Berlin:20260616T100000
DTSTAMP:20260421T233013
CREATED:20250616T145157Z
LAST-MODIFIED:20250616T145157Z
UID:13849-1781600400-1781604000@diekulturmacherin.de
SUMMARY:Straßentiger
DESCRIPTION:
URL:https://diekulturmacherin.de/termin/strassentiger-18/
LOCATION:Vaterstetten
END:VEVENT
BEGIN:VEVENT
DTSTART;TZID=Europe/Berlin:20260616T150000
DTEND;TZID=Europe/Berlin:20260616T170000
DTSTAMP:20260421T233013
CREATED:20260226T104517Z
LAST-MODIFIED:20260226T104517Z
UID:15460-1781622000-1781629200@diekulturmacherin.de
SUMMARY:Prinzessin Alleswill
DESCRIPTION:
URL:https://diekulturmacherin.de/termin/prinzessin-alleswill-11/
LOCATION:Herscheid
END:VEVENT
BEGIN:VEVENT
DTSTART;TZID=Europe/Berlin:20260617T080000
DTEND;TZID=Europe/Berlin:20260617T090000
DTSTAMP:20260421T233013
CREATED:20251215T114247Z
LAST-MODIFIED:20251215T114247Z
UID:14927-1781683200-1781686800@diekulturmacherin.de
SUMMARY:Das Müllmonster
DESCRIPTION:
URL:https://diekulturmacherin.de/termin/das-muellmonster-57/
LOCATION:Cloppenburg
END:VEVENT
BEGIN:VEVENT
DTSTART;TZID=Europe/Berlin:20260617T090000
DTEND;TZID=Europe/Berlin:20260617T100000
DTSTAMP:20260421T233013
CREATED:20250616T145241Z
LAST-MODIFIED:20250616T145241Z
UID:13851-1781686800-1781690400@diekulturmacherin.de
SUMMARY:Straßentiger
DESCRIPTION:
URL:https://diekulturmacherin.de/termin/strassentiger-19/
LOCATION:Vaterstetten
END:VEVENT
BEGIN:VEVENT
DTSTART;TZID=Europe/Berlin:20260617T100000
DTEND;TZID=Europe/Berlin:20260617T110000
DTSTAMP:20260421T233013
CREATED:20260121T103649Z
LAST-MODIFIED:20260121T103649Z
UID:15090-1781690400-1781694000@diekulturmacherin.de
SUMMARY:Prinzessin Alleswill und der kluge Frosch
DESCRIPTION:
URL:https://diekulturmacherin.de/termin/prinzessin-alleswill-und-der-kluge-frosch-19/
LOCATION:Wuppertal
END:VEVENT
BEGIN:VEVENT
DTSTART;TZID=Europe/Berlin:20260618T100000
DTEND;TZID=Europe/Berlin:20260618T110000
DTSTAMP:20260421T233013
CREATED:20250616T145330Z
LAST-MODIFIED:20250616T145330Z
UID:13853-1781776800-1781780400@diekulturmacherin.de
SUMMARY:Straßentiger
DESCRIPTION:
URL:https://diekulturmacherin.de/termin/strassentiger-20/
LOCATION:Vaterstetten
END:VEVENT
BEGIN:VEVENT
DTSTART;TZID=Europe/Berlin:20260618T100000
DTEND;TZID=Europe/Berlin:20260618T110000
DTSTAMP:20260421T233013
CREATED:20260326T145046Z
LAST-MODIFIED:20260326T145046Z
UID:15718-1781776800-1781780400@diekulturmacherin.de
SUMMARY:Prinzessin Alleswill
DESCRIPTION:
URL:https://diekulturmacherin.de/termin/prinzessin-alleswill-12/
LOCATION:Unna
END:VEVENT
BEGIN:VEVENT
DTSTART;TZID=Europe/Berlin:20260619T100000
DTEND;TZID=Europe/Berlin:20260619T110000
DTSTAMP:20260421T233013
CREATED:20260316T100925Z
LAST-MODIFIED:20260316T100925Z
UID:15600-1781863200-1781866800@diekulturmacherin.de
SUMMARY:Prinzessin Alleswill und der kluge Frosch
DESCRIPTION:
URL:https://diekulturmacherin.de/termin/prinzessin-alleswill-und-der-kluge-frosch-26/
LOCATION:Büttelborn
END:VEVENT
BEGIN:VEVENT
DTSTART;TZID=Europe/Berlin:20260619T193000
DTEND;TZID=Europe/Berlin:20260619T210000
DTSTAMP:20260421T233013
CREATED:20250923T125930Z
LAST-MODIFIED:20250923T125930Z
UID:14396-1781897400-1781902800@diekulturmacherin.de
SUMMARY:Rilke Lesung
DESCRIPTION:
URL:https://diekulturmacherin.de/termin/rilke-lesung-11/
LOCATION:Radeberg
END:VEVENT
BEGIN:VEVENT
DTSTART;TZID=Europe/Berlin:20260620T103000
DTEND;TZID=Europe/Berlin:20260620T113000
DTSTAMP:20260421T233013
CREATED:20250911T130814Z
LAST-MODIFIED:20250911T130814Z
UID:14298-1781951400-1781955000@diekulturmacherin.de
SUMMARY:Straßentiger
DESCRIPTION:
URL:https://diekulturmacherin.de/termin/strassentiger-24/
LOCATION:Tuttlingen
END:VEVENT
BEGIN:VEVENT
DTSTART;TZID=Europe/Berlin:20260622T090000
DTEND;TZID=Europe/Berlin:20260622T100000
DTSTAMP:20260421T233013
CREATED:20260309T173515Z
LAST-MODIFIED:20260309T173515Z
UID:15550-1782118800-1782122400@diekulturmacherin.de
SUMMARY:Rap Huhn
DESCRIPTION:
URL:https://diekulturmacherin.de/termin/rap-huhn-67/
LOCATION:Ehingen (Donau)
END:VEVENT
BEGIN:VEVENT
DTSTART;TZID=Europe/Berlin:20260622T110000
DTEND;TZID=Europe/Berlin:20260622T120000
DTSTAMP:20260421T233013
CREATED:20260309T173619Z
LAST-MODIFIED:20260309T173619Z
UID:15552-1782126000-1782129600@diekulturmacherin.de
SUMMARY:Rap Huhn
DESCRIPTION:
URL:https://diekulturmacherin.de/termin/rap-huhn-68/
LOCATION:Ehingen (Donau)
END:VEVENT
BEGIN:VEVENT
DTSTART;TZID=Europe/Berlin:20260623T080000
DTEND;TZID=Europe/Berlin:20260623T090000
DTSTAMP:20260421T233013
CREATED:20260303T125732Z
LAST-MODIFIED:20260303T125732Z
UID:15488-1782201600-1782205200@diekulturmacherin.de
SUMMARY:Team Campus
DESCRIPTION:
URL:https://diekulturmacherin.de/termin/team-campus-4/
LOCATION:Crailsheim
END:VEVENT
BEGIN:VEVENT
DTSTART;TZID=Europe/Berlin:20260623T080000
DTEND;TZID=Europe/Berlin:20260623T090000
DTSTAMP:20260421T233013
CREATED:20260313T111524Z
LAST-MODIFIED:20260313T111524Z
UID:15588-1782201600-1782205200@diekulturmacherin.de
SUMMARY:Kleines ABC gegen Stress
DESCRIPTION:
URL:https://diekulturmacherin.de/termin/kleines-abc-gegen-stress-31/
LOCATION:Forst
END:VEVENT
BEGIN:VEVENT
DTSTART;TZID=Europe/Berlin:20260623T093000
DTEND;TZID=Europe/Berlin:20260623T100000
DTSTAMP:20260421T233013
CREATED:20260313T111652Z
LAST-MODIFIED:20260313T111741Z
UID:15590-1782207000-1782208800@diekulturmacherin.de
SUMMARY:Kleines ABC gegen Stress
DESCRIPTION:
URL:https://diekulturmacherin.de/termin/kleines-abc-gegen-stress-32/
LOCATION:Forst
END:VEVENT
BEGIN:VEVENT
DTSTART;TZID=Europe/Berlin:20260623T100000
DTEND;TZID=Europe/Berlin:20260623T110000
DTSTAMP:20260421T233013
CREATED:20260114T085029Z
LAST-MODIFIED:20260114T085029Z
UID:15043-1782208800-1782212400@diekulturmacherin.de
SUMMARY:Ritter Rost
DESCRIPTION:
URL:https://diekulturmacherin.de/termin/ritter-rost-80/
LOCATION:Merklingen
END:VEVENT
BEGIN:VEVENT
DTSTART;TZID=Europe/Berlin:20260623T100000
DTEND;TZID=Europe/Berlin:20260623T110000
DTSTAMP:20260421T233013
CREATED:20260303T125816Z
LAST-MODIFIED:20260303T125816Z
UID:15491-1782208800-1782212400@diekulturmacherin.de
SUMMARY:Team Campus
DESCRIPTION:
URL:https://diekulturmacherin.de/termin/team-campus-5/
LOCATION:Crailsheim
END:VEVENT
END:VCALENDAR