BEGIN:VCALENDAR
VERSION:2.0
PRODID:-//DieKulturMacherin - ECPv6.15.20//NONSGML v1.0//EN
CALSCALE:GREGORIAN
METHOD:PUBLISH
X-WR-CALNAME:DieKulturMacherin
X-ORIGINAL-URL:https://diekulturmacherin.de
X-WR-CALDESC:Veranstaltungen für DieKulturMacherin
REFRESH-INTERVAL;VALUE=DURATION:PT1H
X-Robots-Tag:noindex
X-PUBLISHED-TTL:PT1H
BEGIN:VTIMEZONE
TZID:Europe/Berlin
BEGIN:DAYLIGHT
TZOFFSETFROM:+0100
TZOFFSETTO:+0200
TZNAME:CEST
DTSTART:20240331T010000
END:DAYLIGHT
BEGIN:STANDARD
TZOFFSETFROM:+0200
TZOFFSETTO:+0100
TZNAME:CET
DTSTART:20241027T010000
END:STANDARD
BEGIN:DAYLIGHT
TZOFFSETFROM:+0100
TZOFFSETTO:+0200
TZNAME:CEST
DTSTART:20250330T010000
END:DAYLIGHT
BEGIN:STANDARD
TZOFFSETFROM:+0200
TZOFFSETTO:+0100
TZNAME:CET
DTSTART:20251026T010000
END:STANDARD
BEGIN:DAYLIGHT
TZOFFSETFROM:+0100
TZOFFSETTO:+0200
TZNAME:CEST
DTSTART:20260329T010000
END:DAYLIGHT
BEGIN:STANDARD
TZOFFSETFROM:+0200
TZOFFSETTO:+0100
TZNAME:CET
DTSTART:20261025T010000
END:STANDARD
END:VTIMEZONE
BEGIN:VEVENT
DTSTART;TZID=Europe/Berlin:20251101T160000
DTEND;TZID=Europe/Berlin:20251101T170000
DTSTAMP:20260423T154710
CREATED:20250617T155140Z
LAST-MODIFIED:20250617T155140Z
UID:13884-1762012800-1762016400@diekulturmacherin.de
SUMMARY:Coco Chanel Lesung
DESCRIPTION:
URL:https://diekulturmacherin.de/termin/coco-chanel-lesung-9/
LOCATION:Immenhausen
END:VEVENT
BEGIN:VEVENT
DTSTART;TZID=Europe/Berlin:20251102T170000
DTEND;TZID=Europe/Berlin:20251102T183000
DTSTAMP:20260423T154710
CREATED:20251009T050035Z
LAST-MODIFIED:20251009T050035Z
UID:14490-1762102800-1762108200@diekulturmacherin.de
SUMMARY:Straßentiger
DESCRIPTION:
URL:https://diekulturmacherin.de/termin/strassentiger-25/
LOCATION:Gütersloh
END:VEVENT
BEGIN:VEVENT
DTSTART;TZID=Europe/Berlin:20251102T183000
DTEND;TZID=Europe/Berlin:20251102T193000
DTSTAMP:20260423T154710
CREATED:20250513T154909Z
LAST-MODIFIED:20250513T154909Z
UID:13623-1762108200-1762111800@diekulturmacherin.de
SUMMARY:Rilke Lesung
DESCRIPTION:
URL:https://diekulturmacherin.de/termin/rilke-lesung-5/
LOCATION:Kierspe
END:VEVENT
BEGIN:VEVENT
DTSTART;TZID=Europe/Berlin:20251103T100000
DTEND;TZID=Europe/Berlin:20251103T110000
DTSTAMP:20260423T154710
CREATED:20250904T085656Z
LAST-MODIFIED:20250904T085656Z
UID:14220-1762164000-1762167600@diekulturmacherin.de
SUMMARY:Müllmonster
DESCRIPTION:
URL:https://diekulturmacherin.de/termin/muellmonster-2/
LOCATION:Görlitz
END:VEVENT
BEGIN:VEVENT
DTSTART;TZID=Europe/Berlin:20251103T170000
DTEND;TZID=Europe/Berlin:20251103T180000
DTSTAMP:20260423T154710
CREATED:20250114T143858Z
LAST-MODIFIED:20250114T143858Z
UID:12883-1762189200-1762192800@diekulturmacherin.de
SUMMARY:Die Körperpolizei
DESCRIPTION:
URL:https://diekulturmacherin.de/termin/die-koerperpolizei-8/
LOCATION:Konz
END:VEVENT
BEGIN:VEVENT
DTSTART;TZID=Europe/Berlin:20251104T100000
DTEND;TZID=Europe/Berlin:20251104T110000
DTSTAMP:20260423T154710
CREATED:20250904T090049Z
LAST-MODIFIED:20250904T090049Z
UID:14223-1762250400-1762254000@diekulturmacherin.de
SUMMARY:Mürps\, das Müllmonster
DESCRIPTION:
URL:https://diekulturmacherin.de/termin/muerps-das-muellmonster-16/
LOCATION:Döbeln
END:VEVENT
BEGIN:VEVENT
DTSTART;TZID=Europe/Berlin:20251105T193000
DTEND;TZID=Europe/Berlin:20251105T203000
DTSTAMP:20260423T154710
CREATED:20241125T133606Z
LAST-MODIFIED:20241125T133606Z
UID:12669-1762371000-1762374600@diekulturmacherin.de
SUMMARY:80 Jahre Frieden - Die letzten Stimmen des Widerstands
DESCRIPTION:
URL:https://diekulturmacherin.de/termin/80-jahre-frieden-die-letzten-stimmen-des-widerstands-13/
LOCATION:Unna
END:VEVENT
BEGIN:VEVENT
DTSTART;TZID=Europe/Berlin:20251105T193000
DTEND;TZID=Europe/Berlin:20251105T213000
DTSTAMP:20260423T154710
CREATED:20250402T154646Z
LAST-MODIFIED:20250402T154646Z
UID:13453-1762371000-1762378200@diekulturmacherin.de
SUMMARY:Jan Fedder Abend
DESCRIPTION:
URL:https://diekulturmacherin.de/termin/jan-fedder-abend-23/
LOCATION:Meppen
END:VEVENT
BEGIN:VEVENT
DTSTART;TZID=Europe/Berlin:20251106T100000
DTEND;TZID=Europe/Berlin:20251106T110000
DTSTAMP:20260423T154710
CREATED:20250701T111224Z
LAST-MODIFIED:20250701T111224Z
UID:13974-1762423200-1762426800@diekulturmacherin.de
SUMMARY:Balduin bleibt grün
DESCRIPTION:
URL:https://diekulturmacherin.de/termin/balduin-bleibt-gruen-53/
LOCATION:Vreden
END:VEVENT
BEGIN:VEVENT
DTSTART;TZID=Europe/Berlin:20251106T190000
DTEND;TZID=Europe/Berlin:20251106T200000
DTSTAMP:20260423T154710
CREATED:20250220T140154Z
LAST-MODIFIED:20250220T140154Z
UID:13104-1762455600-1762459200@diekulturmacherin.de
SUMMARY:Schüsse in der Stille
DESCRIPTION:
URL:https://diekulturmacherin.de/termin/schuesse-in-der-stille-2/
LOCATION:Gevelsberg
END:VEVENT
BEGIN:VEVENT
DTSTART;TZID=Europe/Berlin:20251106T193000
DTEND;TZID=Europe/Berlin:20251106T203000
DTSTAMP:20260423T154710
CREATED:20241128T110849Z
LAST-MODIFIED:20241128T111317Z
UID:12686-1762457400-1762461000@diekulturmacherin.de
SUMMARY:80 Jahre Frieden - Die letzten Stimmen des Widerstands
DESCRIPTION:
URL:https://diekulturmacherin.de/termin/80-jahre-frieden-die-letzten-stimmen-des-widerstands-15/
LOCATION:Datteln
END:VEVENT
BEGIN:VEVENT
DTSTART;TZID=Europe/Berlin:20251106T193000
DTEND;TZID=Europe/Berlin:20251106T210000
DTSTAMP:20260423T154710
CREATED:20250612T104725Z
LAST-MODIFIED:20250612T104725Z
UID:13835-1762457400-1762462800@diekulturmacherin.de
SUMMARY:Jung (Ü50) sucht
DESCRIPTION:
URL:https://diekulturmacherin.de/termin/jung-ue50-sucht-7/
LOCATION:Darmstadt
END:VEVENT
BEGIN:VEVENT
DTSTART;TZID=Europe/Berlin:20251106T193000
DTEND;TZID=Europe/Berlin:20251106T213000
DTSTAMP:20260423T154710
CREATED:20250224T104115Z
LAST-MODIFIED:20250224T104115Z
UID:13135-1762457400-1762464600@diekulturmacherin.de
SUMMARY:Bienenkönigin
DESCRIPTION:
URL:https://diekulturmacherin.de/termin/bienenkoenigin/
LOCATION:Verl
END:VEVENT
BEGIN:VEVENT
DTSTART;TZID=Europe/Berlin:20251107T100000
DTEND;TZID=Europe/Berlin:20251107T110000
DTSTAMP:20260423T154710
CREATED:20250206T142153Z
LAST-MODIFIED:20250206T142153Z
UID:13008-1762509600-1762513200@diekulturmacherin.de
SUMMARY:Rap Huhn
DESCRIPTION:
URL:https://diekulturmacherin.de/termin/rap-huhn-56/
LOCATION:Lauenburg
END:VEVENT
BEGIN:VEVENT
DTSTART;TZID=Europe/Berlin:20251107T150000
DTEND;TZID=Europe/Berlin:20251107T163000
DTSTAMP:20260423T154710
CREATED:20250317T103009Z
LAST-MODIFIED:20250317T103009Z
UID:13286-1762527600-1762533000@diekulturmacherin.de
SUMMARY:Die Körperpolizei
DESCRIPTION:
URL:https://diekulturmacherin.de/termin/die-koerperpolizei-12/
LOCATION:Köngen
END:VEVENT
BEGIN:VEVENT
DTSTART;TZID=Europe/Berlin:20251107T150000
DTEND;TZID=Europe/Berlin:20251107T163000
DTSTAMP:20260423T154710
CREATED:20250722T133839Z
LAST-MODIFIED:20250722T133839Z
UID:14107-1762527600-1762533000@diekulturmacherin.de
SUMMARY:Pusten\, Prusten\, Blubbern\, Klappern
DESCRIPTION:
URL:https://diekulturmacherin.de/termin/pusten-prusten-blubbern-klappern-16/
LOCATION:Dettingen
END:VEVENT
BEGIN:VEVENT
DTSTART;TZID=Europe/Berlin:20251107T190000
DTEND;TZID=Europe/Berlin:20251107T203000
DTSTAMP:20260423T154710
CREATED:20241018T124800Z
LAST-MODIFIED:20241018T124800Z
UID:12468-1762542000-1762547400@diekulturmacherin.de
SUMMARY:Nachtgedanken - ein LeseKonzert
DESCRIPTION:
URL:https://diekulturmacherin.de/termin/nachtgedanken-ein-lesekonzert-3/
LOCATION:Pleidelsheim
END:VEVENT
BEGIN:VEVENT
DTSTART;TZID=Europe/Berlin:20251107T193000
DTEND;TZID=Europe/Berlin:20251107T203000
DTSTAMP:20260423T154710
CREATED:20250507T131317Z
LAST-MODIFIED:20250507T131317Z
UID:13581-1762543800-1762547400@diekulturmacherin.de
SUMMARY:Schüsse in der Stille
DESCRIPTION:
URL:https://diekulturmacherin.de/termin/schuesse-in-der-stille-7/
LOCATION:Hemmor
END:VEVENT
BEGIN:VEVENT
DTSTART;TZID=Europe/Berlin:20251108T140000
DTEND;TZID=Europe/Berlin:20251108T163000
DTSTAMP:20260423T154710
CREATED:20250519T103509Z
LAST-MODIFIED:20250519T103509Z
UID:13650-1762610400-1762619400@diekulturmacherin.de
SUMMARY:Die wilden Kerle
DESCRIPTION:
URL:https://diekulturmacherin.de/termin/die-wilden-kerle-278/
LOCATION:Warstein
END:VEVENT
BEGIN:VEVENT
DTSTART;TZID=Europe/Berlin:20251108T180000
DTEND;TZID=Europe/Berlin:20251108T193000
DTSTAMP:20260423T154711
CREATED:20240408T132738Z
LAST-MODIFIED:20240408T132748Z
UID:11324-1762624800-1762630200@diekulturmacherin.de
SUMMARY:Wir Kinder des 20. Juli
DESCRIPTION:
URL:https://diekulturmacherin.de/termin/wir-kinder-des-20-juli/
LOCATION:Zierenberg
END:VEVENT
BEGIN:VEVENT
DTSTART;TZID=Europe/Berlin:20251108T183000
DTEND;TZID=Europe/Berlin:20251108T193000
DTSTAMP:20260423T154711
CREATED:20250507T131429Z
LAST-MODIFIED:20250507T131429Z
UID:13583-1762626600-1762630200@diekulturmacherin.de
SUMMARY:Schüsse in der Stille
DESCRIPTION:
URL:https://diekulturmacherin.de/termin/schuesse-in-der-stille-8/
LOCATION:Cuxhaven
END:VEVENT
BEGIN:VEVENT
DTSTART;TZID=Europe/Berlin:20251108T193000
DTEND;TZID=Europe/Berlin:20251108T210000
DTSTAMP:20260423T154711
CREATED:20250930T124516Z
LAST-MODIFIED:20250930T124516Z
UID:14449-1762630200-1762635600@diekulturmacherin.de
SUMMARY:Memories - ein Elvis Abend
DESCRIPTION:
URL:https://diekulturmacherin.de/termin/memories-ein-elvis-abend-10/
LOCATION:Schrozberg
END:VEVENT
BEGIN:VEVENT
DTSTART;TZID=Europe/Berlin:20251109T113000
DTEND;TZID=Europe/Berlin:20251109T123000
DTSTAMP:20260423T154711
CREATED:20250717T100522Z
LAST-MODIFIED:20250717T100522Z
UID:14070-1762687800-1762691400@diekulturmacherin.de
SUMMARY:Balduin Lesung
DESCRIPTION:
URL:https://diekulturmacherin.de/termin/balduin-lesung/
LOCATION:Rheinisch Bergisch
END:VEVENT
BEGIN:VEVENT
DTSTART;TZID=Europe/Berlin:20251109T150000
DTEND;TZID=Europe/Berlin:20251109T163000
DTSTAMP:20260423T154711
CREATED:20250520T133823Z
LAST-MODIFIED:20250520T133823Z
UID:13654-1762700400-1762705800@diekulturmacherin.de
SUMMARY:Hüpfvergnügt
DESCRIPTION:
URL:https://diekulturmacherin.de/termin/huepfvergnuegt-39/
LOCATION:Köln
END:VEVENT
BEGIN:VEVENT
DTSTART;TZID=Europe/Berlin:20251110T100000
DTEND;TZID=Europe/Berlin:20251110T110000
DTSTAMP:20260423T154711
CREATED:20240702T133322Z
LAST-MODIFIED:20240702T133322Z
UID:11927-1762768800-1762772400@diekulturmacherin.de
SUMMARY:Wir Kinder des 20. Juli - Gegen das Vergessen
DESCRIPTION:
URL:https://diekulturmacherin.de/termin/wir-kinder-des-20-juli-gegen-das-vergessen-11/
LOCATION:Kaiserslautern
END:VEVENT
BEGIN:VEVENT
DTSTART;TZID=Europe/Berlin:20251111T100000
DTEND;TZID=Europe/Berlin:20251111T110000
DTSTAMP:20260423T154711
CREATED:20250805T140212Z
LAST-MODIFIED:20250805T140212Z
UID:14157-1762855200-1762858800@diekulturmacherin.de
SUMMARY:Balduin wirds zu bunt
DESCRIPTION:
URL:https://diekulturmacherin.de/termin/balduin-wirds-zu-bunt-15/
LOCATION:Hemer
END:VEVENT
BEGIN:VEVENT
DTSTART;TZID=Europe/Berlin:20251112T090000
DTEND;TZID=Europe/Berlin:20251112T100000
DTSTAMP:20260423T154711
CREATED:20250611T100932Z
LAST-MODIFIED:20250611T100932Z
UID:13814-1762938000-1762941600@diekulturmacherin.de
SUMMARY:Käthe im Gorilla Garten
DESCRIPTION:
URL:https://diekulturmacherin.de/termin/kaethe-im-gorilla-garten/
LOCATION:Voerde
END:VEVENT
BEGIN:VEVENT
DTSTART;TZID=Europe/Berlin:20251112T100000
DTEND;TZID=Europe/Berlin:20251112T110000
DTSTAMP:20260423T154711
CREATED:20250805T140343Z
LAST-MODIFIED:20250805T140343Z
UID:14159-1762941600-1762945200@diekulturmacherin.de
SUMMARY:Balduin wirds zu bunt
DESCRIPTION:
URL:https://diekulturmacherin.de/termin/balduin-wirds-zu-bunt-16/
LOCATION:Hemer
END:VEVENT
BEGIN:VEVENT
DTSTART;TZID=Europe/Berlin:20251112T150000
DTEND;TZID=Europe/Berlin:20251112T163000
DTSTAMP:20260423T154711
CREATED:20250901T113607Z
LAST-MODIFIED:20250901T113607Z
UID:14176-1762959600-1762965000@diekulturmacherin.de
SUMMARY:Arvil - der kleine Falke
DESCRIPTION:
URL:https://diekulturmacherin.de/termin/arvil-der-kleine-falke/
LOCATION:Coesfeld
END:VEVENT
BEGIN:VEVENT
DTSTART;TZID=Europe/Berlin:20251112T193000
DTEND;TZID=Europe/Berlin:20251112T203000
DTSTAMP:20260423T154711
CREATED:20250725T142201Z
LAST-MODIFIED:20250725T142201Z
UID:14127-1762975800-1762979400@diekulturmacherin.de
SUMMARY:E.A. Poe Abend
DESCRIPTION:
URL:https://diekulturmacherin.de/termin/e-a-poe-abend-8/
LOCATION:Mössingen
END:VEVENT
END:VCALENDAR