BEGIN:VCALENDAR
VERSION:2.0
PRODID:-//DieKulturMacherin - ECPv6.15.20//NONSGML v1.0//EN
CALSCALE:GREGORIAN
METHOD:PUBLISH
X-ORIGINAL-URL:https://diekulturmacherin.de
X-WR-CALDESC:Veranstaltungen für DieKulturMacherin
REFRESH-INTERVAL;VALUE=DURATION:PT1H
X-Robots-Tag:noindex
X-PUBLISHED-TTL:PT1H
BEGIN:VTIMEZONE
TZID:Europe/Berlin
BEGIN:DAYLIGHT
TZOFFSETFROM:+0100
TZOFFSETTO:+0200
TZNAME:CEST
DTSTART:20240331T010000
END:DAYLIGHT
BEGIN:STANDARD
TZOFFSETFROM:+0200
TZOFFSETTO:+0100
TZNAME:CET
DTSTART:20241027T010000
END:STANDARD
BEGIN:DAYLIGHT
TZOFFSETFROM:+0100
TZOFFSETTO:+0200
TZNAME:CEST
DTSTART:20250330T010000
END:DAYLIGHT
BEGIN:STANDARD
TZOFFSETFROM:+0200
TZOFFSETTO:+0100
TZNAME:CET
DTSTART:20251026T010000
END:STANDARD
BEGIN:DAYLIGHT
TZOFFSETFROM:+0100
TZOFFSETTO:+0200
TZNAME:CEST
DTSTART:20260329T010000
END:DAYLIGHT
BEGIN:STANDARD
TZOFFSETFROM:+0200
TZOFFSETTO:+0100
TZNAME:CET
DTSTART:20261025T010000
END:STANDARD
END:VTIMEZONE
BEGIN:VEVENT
DTSTART;TZID=Europe/Berlin:20251001T193000
DTEND;TZID=Europe/Berlin:20251001T203000
DTSTAMP:20260425T131051
CREATED:20250527T122729Z
LAST-MODIFIED:20250527T122729Z
UID:13730-1759347000-1759350600@diekulturmacherin.de
SUMMARY:Jung (Ü 50) sucht ...
DESCRIPTION:
URL:https://diekulturmacherin.de/termin/jung-ue-50-sucht-2/
LOCATION:Unterhaching
END:VEVENT
BEGIN:VEVENT
DTSTART;TZID=Europe/Berlin:20251002T150000
DTEND;TZID=Europe/Berlin:20251002T160000
DTSTAMP:20260425T131051
CREATED:20250212T085059Z
LAST-MODIFIED:20250212T085059Z
UID:13042-1759417200-1759420800@diekulturmacherin.de
SUMMARY:Eselsohren - ein wortreiches Getrixe
DESCRIPTION:
URL:https://diekulturmacherin.de/termin/eselsohren-ein-wortreiches-getrixe-54/
LOCATION:Penzberg
END:VEVENT
BEGIN:VEVENT
DTSTART;TZID=Europe/Berlin:20251003T190000
DTEND;TZID=Europe/Berlin:20251003T203000
DTSTAMP:20260425T131051
CREATED:20250909T125955Z
LAST-MODIFIED:20250909T125955Z
UID:14260-1759518000-1759523400@diekulturmacherin.de
SUMMARY:Mehr Chaos\, mehr Liebe!
DESCRIPTION:
URL:https://diekulturmacherin.de/termin/mehr-chaos-mehr-liebe-4/
LOCATION:Grafschaft Lantershofen
END:VEVENT
BEGIN:VEVENT
DTSTART;TZID=Europe/Berlin:20251004T150000
DTEND;TZID=Europe/Berlin:20251004T160000
DTSTAMP:20260425T131051
CREATED:20250508T081412Z
LAST-MODIFIED:20250508T081412Z
UID:13598-1759590000-1759593600@diekulturmacherin.de
SUMMARY:Eselsohren - ein wortreiches Getrixe
DESCRIPTION:
URL:https://diekulturmacherin.de/termin/eselsohren-ein-wortreiches-getrixe-56/
LOCATION:Ottobrunn
END:VEVENT
BEGIN:VEVENT
DTSTART;TZID=Europe/Berlin:20251004T160000
DTEND;TZID=Europe/Berlin:20251004T170000
DTSTAMP:20260425T131051
CREATED:20250611T101302Z
LAST-MODIFIED:20250611T101302Z
UID:13820-1759593600-1759597200@diekulturmacherin.de
SUMMARY:Ritter Rost
DESCRIPTION:
URL:https://diekulturmacherin.de/termin/ritter-rost-69/
LOCATION:Klütz
END:VEVENT
BEGIN:VEVENT
DTSTART;TZID=Europe/Berlin:20251004T190000
DTEND;TZID=Europe/Berlin:20251004T210000
DTSTAMP:20260425T131051
CREATED:20250611T101206Z
LAST-MODIFIED:20250611T101206Z
UID:13818-1759604400-1759611600@diekulturmacherin.de
SUMMARY:LeseKonzert - Nachtgedanken
DESCRIPTION:
URL:https://diekulturmacherin.de/termin/lesekonzert-nachtgedanken-6/
LOCATION:Klütz
END:VEVENT
BEGIN:VEVENT
DTSTART;TZID=Europe/Berlin:20251006T080000
DTEND;TZID=Europe/Berlin:20251006T093000
DTSTAMP:20260425T131051
CREATED:20250711T122048Z
LAST-MODIFIED:20250711T122048Z
UID:14045-1759737600-1759743000@diekulturmacherin.de
SUMMARY:Who´s to Blame
DESCRIPTION:
URL:https://diekulturmacherin.de/termin/whos-to-blame-14/
LOCATION:Gelsenkirchen
END:VEVENT
BEGIN:VEVENT
DTSTART;TZID=Europe/Berlin:20251006T123000
DTEND;TZID=Europe/Berlin:20251006T140000
DTSTAMP:20260425T131051
CREATED:20250711T122535Z
LAST-MODIFIED:20250711T122535Z
UID:14047-1759753800-1759759200@diekulturmacherin.de
SUMMARY:Who´s to Blame
DESCRIPTION:
URL:https://diekulturmacherin.de/termin/whos-to-blame-15/
LOCATION:Gelsenkirchen
END:VEVENT
BEGIN:VEVENT
DTSTART;TZID=Europe/Berlin:20251007T100000
DTEND;TZID=Europe/Berlin:20251007T110000
DTSTAMP:20260425T131051
CREATED:20250509T141024Z
LAST-MODIFIED:20250509T141024Z
UID:13604-1759831200-1759834800@diekulturmacherin.de
SUMMARY:Balduin wirds zu bunt
DESCRIPTION:
URL:https://diekulturmacherin.de/termin/balduin-wirds-zu-bunt-14/
LOCATION:Oberhausen
END:VEVENT
BEGIN:VEVENT
DTSTART;TZID=Europe/Berlin:20251007T100000
DTEND;TZID=Europe/Berlin:20251007T110000
DTSTAMP:20260425T131051
CREATED:20250526T101706Z
LAST-MODIFIED:20250526T101706Z
UID:13700-1759831200-1759834800@diekulturmacherin.de
SUMMARY:80 Jahre Frieden - Die letzten Stimmen des Widerstands
DESCRIPTION:
URL:https://diekulturmacherin.de/termin/80-jahre-frieden-die-letzten-stimmen-des-widerstands-22/
LOCATION:Deggendorf
END:VEVENT
BEGIN:VEVENT
DTSTART;TZID=Europe/Berlin:20251007T190000
DTEND;TZID=Europe/Berlin:20251007T203000
DTSTAMP:20260425T131052
CREATED:20250526T101843Z
LAST-MODIFIED:20250526T101843Z
UID:13704-1759863600-1759869000@diekulturmacherin.de
SUMMARY:80 Jahre Frieden - Die letzten Stimmen des Widerstands
DESCRIPTION:
URL:https://diekulturmacherin.de/termin/80-jahre-frieden-die-letzten-stimmen-des-widerstands-24/
LOCATION:Deggendorf
END:VEVENT
BEGIN:VEVENT
DTSTART;TZID=Europe/Berlin:20251008T100000
DTEND;TZID=Europe/Berlin:20251008T110000
DTSTAMP:20260425T131052
CREATED:20250526T101751Z
LAST-MODIFIED:20250526T101751Z
UID:13702-1759917600-1759921200@diekulturmacherin.de
SUMMARY:80 Jahre Frieden - Die letzten Stimmen des Widerstands
DESCRIPTION:
URL:https://diekulturmacherin.de/termin/80-jahre-frieden-die-letzten-stimmen-des-widerstands-23/
LOCATION:Deggendorf
END:VEVENT
BEGIN:VEVENT
DTSTART;TZID=Europe/Berlin:20251008T103000
DTEND;TZID=Europe/Berlin:20251008T113000
DTSTAMP:20260425T131052
CREATED:20250710T101046Z
LAST-MODIFIED:20250710T101555Z
UID:14036-1759919400-1759923000@diekulturmacherin.de
SUMMARY:Hereingeflogen
DESCRIPTION:
URL:https://diekulturmacherin.de/termin/hereingeflogen/
LOCATION:Essen
END:VEVENT
BEGIN:VEVENT
DTSTART;TZID=Europe/Berlin:20251009T193000
DTEND;TZID=Europe/Berlin:20251009T203000
DTSTAMP:20260425T131052
CREATED:20241010T115750Z
LAST-MODIFIED:20241010T115750Z
UID:12423-1760038200-1760041800@diekulturmacherin.de
SUMMARY:Die Kinder der Hansens - Saga
DESCRIPTION:
URL:https://diekulturmacherin.de/termin/die-kinder-der-hansens-saga/
LOCATION:Einbeck
END:VEVENT
BEGIN:VEVENT
DTSTART;TZID=Europe/Berlin:20251009T193000
DTEND;TZID=Europe/Berlin:20251009T203000
DTSTAMP:20260425T131052
CREATED:20250611T100346Z
LAST-MODIFIED:20250611T100346Z
UID:13801-1760038200-1760041800@diekulturmacherin.de
SUMMARY:Coco Chanel
DESCRIPTION:
URL:https://diekulturmacherin.de/termin/coco-chanel-3/
LOCATION:Elbmarsch
END:VEVENT
BEGIN:VEVENT
DTSTART;TZID=Europe/Berlin:20251010T190000
DTEND;TZID=Europe/Berlin:20251010T203000
DTSTAMP:20260425T131052
CREATED:20250217T145922Z
LAST-MODIFIED:20250217T150228Z
UID:13083-1760122800-1760128200@diekulturmacherin.de
SUMMARY:Unter Kommissaren - Fiktion trifft Realität
DESCRIPTION:
URL:https://diekulturmacherin.de/termin/unter-kommissaren-fiktion-trifft-realitaet-7/
LOCATION:Weinsberg
END:VEVENT
BEGIN:VEVENT
DTSTART;TZID=Europe/Berlin:20251011T120000
DTEND;TZID=Europe/Berlin:20251011T130000
DTSTAMP:20260425T131052
CREATED:20250630T140536Z
LAST-MODIFIED:20250630T140536Z
UID:13971-1760184000-1760187600@diekulturmacherin.de
SUMMARY:Traumspinnerin
DESCRIPTION:
URL:https://diekulturmacherin.de/termin/traumspinnerin-2/
LOCATION:Berlin
END:VEVENT
BEGIN:VEVENT
DTSTART;TZID=Europe/Berlin:20251012T150000
DTEND;TZID=Europe/Berlin:20251012T163000
DTSTAMP:20260425T131052
CREATED:20250520T161020Z
LAST-MODIFIED:20250520T161020Z
UID:13658-1760281200-1760286600@diekulturmacherin.de
SUMMARY:Rap Huhn
DESCRIPTION:
URL:https://diekulturmacherin.de/termin/rap-huhn-60/
LOCATION:Kierspe
END:VEVENT
BEGIN:VEVENT
DTSTART;TZID=Europe/Berlin:20251014T080000
DTEND;TZID=Europe/Berlin:20251014T090000
DTSTAMP:20260425T131052
CREATED:20250707T105428Z
LAST-MODIFIED:20250707T105428Z
UID:13999-1760428800-1760432400@diekulturmacherin.de
SUMMARY:Wir wollen mobbingfrei!
DESCRIPTION:
URL:https://diekulturmacherin.de/termin/wir-wollen-mobbingfrei-20/
LOCATION:Berlin
END:VEVENT
BEGIN:VEVENT
DTSTART;TZID=Europe/Berlin:20251014T100000
DTEND;TZID=Europe/Berlin:20251014T110000
DTSTAMP:20260425T131052
CREATED:20250707T105508Z
LAST-MODIFIED:20250707T105508Z
UID:14001-1760436000-1760439600@diekulturmacherin.de
SUMMARY:Wir wollen mobbingfrei!
DESCRIPTION:
URL:https://diekulturmacherin.de/termin/wir-wollen-mobbingfrei-21/
LOCATION:Berlin
END:VEVENT
BEGIN:VEVENT
DTSTART;TZID=Europe/Berlin:20251015T080000
DTEND;TZID=Europe/Berlin:20251015T090000
DTSTAMP:20260425T131052
CREATED:20250707T105550Z
LAST-MODIFIED:20250707T105550Z
UID:14003-1760515200-1760518800@diekulturmacherin.de
SUMMARY:Wir wollen mobbingfrei!
DESCRIPTION:
URL:https://diekulturmacherin.de/termin/wir-wollen-mobbingfrei-22/
LOCATION:Berlin
END:VEVENT
BEGIN:VEVENT
DTSTART;TZID=Europe/Berlin:20251015T100000
DTEND;TZID=Europe/Berlin:20251015T110000
DTSTAMP:20260425T131052
CREATED:20250707T105635Z
LAST-MODIFIED:20250707T105635Z
UID:14005-1760522400-1760526000@diekulturmacherin.de
SUMMARY:Wir wollen mobbingfrei!
DESCRIPTION:
URL:https://diekulturmacherin.de/termin/wir-wollen-mobbingfrei-23/
LOCATION:Berlin
END:VEVENT
BEGIN:VEVENT
DTSTART;TZID=Europe/Berlin:20251017T090000
DTEND;TZID=Europe/Berlin:20251017T100000
DTSTAMP:20260425T131052
CREATED:20250521T134425Z
LAST-MODIFIED:20250521T134425Z
UID:13664-1760691600-1760695200@diekulturmacherin.de
SUMMARY:Musikalische Ritter Rost Lesung
DESCRIPTION:
URL:https://diekulturmacherin.de/termin/musikalische-ritter-rost-lesung-31/
LOCATION:Ehingen (Donau)
END:VEVENT
BEGIN:VEVENT
DTSTART;TZID=Europe/Berlin:20251017T110000
DTEND;TZID=Europe/Berlin:20251017T120000
DTSTAMP:20260425T131052
CREATED:20250521T134510Z
LAST-MODIFIED:20250521T134510Z
UID:13667-1760698800-1760702400@diekulturmacherin.de
SUMMARY:Musikalische Ritter Rost Lesung
DESCRIPTION:
URL:https://diekulturmacherin.de/termin/musikalische-ritter-rost-lesung-32/
LOCATION:Ehingen (Donau)
END:VEVENT
BEGIN:VEVENT
DTSTART;TZID=Europe/Berlin:20251017T193000
DTEND;TZID=Europe/Berlin:20251017T203000
DTSTAMP:20260425T131052
CREATED:20241115T133850Z
LAST-MODIFIED:20241115T133850Z
UID:12597-1760729400-1760733000@diekulturmacherin.de
SUMMARY:Swingin Lyrics
DESCRIPTION:
URL:https://diekulturmacherin.de/termin/swingin-lyrics/
LOCATION:Salzgitter
END:VEVENT
BEGIN:VEVENT
DTSTART;TZID=Europe/Berlin:20251018T150000
DTEND;TZID=Europe/Berlin:20251018T163000
DTSTAMP:20260425T131052
CREATED:20241115T133313Z
LAST-MODIFIED:20241115T133313Z
UID:12585-1760799600-1760805000@diekulturmacherin.de
SUMMARY:Das Rap-Huhn
DESCRIPTION:
URL:https://diekulturmacherin.de/termin/das-rap-huhn-66/
LOCATION:Niedernberg
END:VEVENT
BEGIN:VEVENT
DTSTART;TZID=Europe/Berlin:20251018T150000
DTEND;TZID=Europe/Berlin:20251018T163000
DTSTAMP:20260425T131052
CREATED:20241219T110533Z
LAST-MODIFIED:20241219T110533Z
UID:12799-1760799600-1760805000@diekulturmacherin.de
SUMMARY:Das Müllmonster
DESCRIPTION:
URL:https://diekulturmacherin.de/termin/das-muellmonster-55/
LOCATION:Wienhausen
END:VEVENT
BEGIN:VEVENT
DTSTART;TZID=Europe/Berlin:20251019T110000
DTEND;TZID=Europe/Berlin:20251019T120000
DTSTAMP:20260425T131052
CREATED:20250507T130534Z
LAST-MODIFIED:20250507T130534Z
UID:13578-1760871600-1760875200@diekulturmacherin.de
SUMMARY:Wir Kinder des 20. Juli
DESCRIPTION:
URL:https://diekulturmacherin.de/termin/wir-kinder-des-20-juli-5/
LOCATION:Lenggries
END:VEVENT
BEGIN:VEVENT
DTSTART;TZID=Europe/Berlin:20251019T173000
DTEND;TZID=Europe/Berlin:20251019T183000
DTSTAMP:20260425T131052
CREATED:20240925T092520Z
LAST-MODIFIED:20240925T092520Z
UID:12311-1760895000-1760898600@diekulturmacherin.de
SUMMARY:Clara & Rilke
DESCRIPTION:
URL:https://diekulturmacherin.de/termin/clara-rilke/
LOCATION:Pforzheim
END:VEVENT
BEGIN:VEVENT
DTSTART;TZID=Europe/Berlin:20251020T080000
DTEND;TZID=Europe/Berlin:20251020T090000
DTSTAMP:20260425T131052
CREATED:20250611T095826Z
LAST-MODIFIED:20250611T095936Z
UID:13788-1760947200-1760950800@diekulturmacherin.de
SUMMARY:Arvil - der kleine Falke. Bd.1
DESCRIPTION:
URL:https://diekulturmacherin.de/termin/fiktion-trifft-realitaet-2/
LOCATION:Ehningen
END:VEVENT
END:VCALENDAR