BEGIN:VCALENDAR
VERSION:2.0
PRODID:-//DieKulturMacherin - ECPv6.15.20//NONSGML v1.0//EN
CALSCALE:GREGORIAN
METHOD:PUBLISH
X-ORIGINAL-URL:https://diekulturmacherin.de
X-WR-CALDESC:Veranstaltungen für DieKulturMacherin
REFRESH-INTERVAL;VALUE=DURATION:PT1H
X-Robots-Tag:noindex
X-PUBLISHED-TTL:PT1H
BEGIN:VTIMEZONE
TZID:Europe/Berlin
BEGIN:DAYLIGHT
TZOFFSETFROM:+0100
TZOFFSETTO:+0200
TZNAME:CEST
DTSTART:20250330T010000
END:DAYLIGHT
BEGIN:STANDARD
TZOFFSETFROM:+0200
TZOFFSETTO:+0100
TZNAME:CET
DTSTART:20251026T010000
END:STANDARD
BEGIN:DAYLIGHT
TZOFFSETFROM:+0100
TZOFFSETTO:+0200
TZNAME:CEST
DTSTART:20260329T010000
END:DAYLIGHT
BEGIN:STANDARD
TZOFFSETFROM:+0200
TZOFFSETTO:+0100
TZNAME:CET
DTSTART:20261025T010000
END:STANDARD
BEGIN:DAYLIGHT
TZOFFSETFROM:+0100
TZOFFSETTO:+0200
TZNAME:CEST
DTSTART:20270328T010000
END:DAYLIGHT
BEGIN:STANDARD
TZOFFSETFROM:+0200
TZOFFSETTO:+0100
TZNAME:CET
DTSTART:20271031T010000
END:STANDARD
END:VTIMEZONE
BEGIN:VEVENT
DTSTART;TZID=Europe/Berlin:20260518T150000
DTEND;TZID=Europe/Berlin:20260518T170000
DTSTAMP:20260422T054805
CREATED:20260209T152354Z
LAST-MODIFIED:20260209T152354Z
UID:15318-1779116400-1779123600@diekulturmacherin.de
SUMMARY:Die wilden Kerle
DESCRIPTION:
URL:https://diekulturmacherin.de/termin/die-wilden-kerle-302/
LOCATION:Salzgitter
END:VEVENT
BEGIN:VEVENT
DTSTART;TZID=Europe/Berlin:20260519T080000
DTEND;TZID=Europe/Berlin:20260519T090000
DTSTAMP:20260422T054805
CREATED:20260309T100844Z
LAST-MODIFIED:20260309T100844Z
UID:15537-1779177600-1779181200@diekulturmacherin.de
SUMMARY:Die wilden Kerle
DESCRIPTION:
URL:https://diekulturmacherin.de/termin/die-wilden-kerle-310/
LOCATION:München
END:VEVENT
BEGIN:VEVENT
DTSTART;TZID=Europe/Berlin:20260519T100000
DTEND;TZID=Europe/Berlin:20260519T110000
DTSTAMP:20260422T054805
CREATED:20260309T100937Z
LAST-MODIFIED:20260309T100937Z
UID:15540-1779184800-1779188400@diekulturmacherin.de
SUMMARY:Die wilden Kerle
DESCRIPTION:
URL:https://diekulturmacherin.de/termin/die-wilden-kerle-311/
LOCATION:München
END:VEVENT
BEGIN:VEVENT
DTSTART;TZID=Europe/Berlin:20260520T080000
DTEND;TZID=Europe/Berlin:20260520T090000
DTSTAMP:20260422T054805
CREATED:20250701T124239Z
LAST-MODIFIED:20250701T124239Z
UID:13978-1779264000-1779267600@diekulturmacherin.de
SUMMARY:Who´s to Blame
DESCRIPTION:
URL:https://diekulturmacherin.de/termin/whos-to-blame-7/
LOCATION:Hohenweststedt
END:VEVENT
BEGIN:VEVENT
DTSTART;TZID=Europe/Berlin:20260520T080000
DTEND;TZID=Europe/Berlin:20260520T090000
DTSTAMP:20260422T054805
CREATED:20251201T140316Z
LAST-MODIFIED:20251201T140316Z
UID:14821-1779264000-1779267600@diekulturmacherin.de
SUMMARY:Lino Veneziano
DESCRIPTION:
URL:https://diekulturmacherin.de/termin/lino-veneziano/
LOCATION:Düsseldorf
END:VEVENT
BEGIN:VEVENT
DTSTART;TZID=Europe/Berlin:20260520T080000
DTEND;TZID=Europe/Berlin:20260520T090000
DTSTAMP:20260422T054805
CREATED:20260226T115844Z
LAST-MODIFIED:20260226T115844Z
UID:15465-1779264000-1779267600@diekulturmacherin.de
SUMMARY:Team Campus
DESCRIPTION:
URL:https://diekulturmacherin.de/termin/team-campus-2/
LOCATION:Epfendorf
END:VEVENT
BEGIN:VEVENT
DTSTART;TZID=Europe/Berlin:20260520T093000
DTEND;TZID=Europe/Berlin:20260520T103000
DTSTAMP:20260422T054805
CREATED:20251201T140440Z
LAST-MODIFIED:20251201T140440Z
UID:14823-1779269400-1779273000@diekulturmacherin.de
SUMMARY:Lino Veneziano
DESCRIPTION:
URL:https://diekulturmacherin.de/termin/lino-veneziano-2/
LOCATION:Düsseldorf
END:VEVENT
BEGIN:VEVENT
DTSTART;TZID=Europe/Berlin:20260520T100000
DTEND;TZID=Europe/Berlin:20260520T110000
DTSTAMP:20260422T054805
CREATED:20250701T124342Z
LAST-MODIFIED:20250701T124342Z
UID:13980-1779271200-1779274800@diekulturmacherin.de
SUMMARY:Who´s to Blame
DESCRIPTION:
URL:https://diekulturmacherin.de/termin/whos-to-blame-8/
LOCATION:Hohenweststedt
END:VEVENT
BEGIN:VEVENT
DTSTART;TZID=Europe/Berlin:20260520T100000
DTEND;TZID=Europe/Berlin:20260520T110000
DTSTAMP:20260422T054805
CREATED:20260226T115952Z
LAST-MODIFIED:20260226T115952Z
UID:15468-1779271200-1779274800@diekulturmacherin.de
SUMMARY:Team Campus
DESCRIPTION:
URL:https://diekulturmacherin.de/termin/team-campus-3/
LOCATION:Bösingen
END:VEVENT
BEGIN:VEVENT
DTSTART;TZID=Europe/Berlin:20260520T193000
DTEND;TZID=Europe/Berlin:20260520T200000
DTSTAMP:20260422T054805
CREATED:20251124T093359Z
LAST-MODIFIED:20251124T093359Z
UID:14758-1779305400-1779307200@diekulturmacherin.de
SUMMARY:Faszination Sherlock Holmes
DESCRIPTION:
URL:https://diekulturmacherin.de/termin/faszination-sherlock-holmes-2/
LOCATION:Langenhagen
END:VEVENT
BEGIN:VEVENT
DTSTART;TZID=Europe/Berlin:20260521T080000
DTEND;TZID=Europe/Berlin:20260521T100000
DTSTAMP:20260422T054805
CREATED:20250703T100945Z
LAST-MODIFIED:20250703T100945Z
UID:13986-1779350400-1779357600@diekulturmacherin.de
SUMMARY:Who´s to Blame
DESCRIPTION:
URL:https://diekulturmacherin.de/termin/whos-to-blame-9/
LOCATION:Cuxhaven
END:VEVENT
BEGIN:VEVENT
DTSTART;TZID=Europe/Berlin:20260521T100000
DTEND;TZID=Europe/Berlin:20260521T110000
DTSTAMP:20260422T054805
CREATED:20251124T093025Z
LAST-MODIFIED:20251124T093025Z
UID:14751-1779357600-1779361200@diekulturmacherin.de
SUMMARY:Sophie Scholl Lesung
DESCRIPTION:
URL:https://diekulturmacherin.de/termin/sophie-scholl-lesung-4/
LOCATION:Garmisch-Partenkirchen
END:VEVENT
BEGIN:VEVENT
DTSTART;TZID=Europe/Berlin:20260521T103000
DTEND;TZID=Europe/Berlin:20260521T120000
DTSTAMP:20260422T054805
CREATED:20250703T101115Z
LAST-MODIFIED:20250703T101115Z
UID:13989-1779359400-1779364800@diekulturmacherin.de
SUMMARY:Who´s to Blame
DESCRIPTION:
URL:https://diekulturmacherin.de/termin/whos-to-blame-10/
LOCATION:Cuxhaven
END:VEVENT
BEGIN:VEVENT
DTSTART;TZID=Europe/Berlin:20260521T140000
DTEND;TZID=Europe/Berlin:20260521T150000
DTSTAMP:20260422T054805
CREATED:20251201T140525Z
LAST-MODIFIED:20251201T140525Z
UID:14825-1779372000-1779375600@diekulturmacherin.de
SUMMARY:Lino Veneziano
DESCRIPTION:
URL:https://diekulturmacherin.de/termin/lino-veneziano-3/
LOCATION:Kerpen
END:VEVENT
BEGIN:VEVENT
DTSTART;TZID=Europe/Berlin:20260522T090000
DTEND;TZID=Europe/Berlin:20260522T100000
DTSTAMP:20260422T054805
CREATED:20260122T145009Z
LAST-MODIFIED:20260122T145010Z
UID:15119-1779440400-1779444000@diekulturmacherin.de
SUMMARY:Lino Venenziano
DESCRIPTION:
URL:https://diekulturmacherin.de/termin/lino-venenziano/
LOCATION:Essen
END:VEVENT
BEGIN:VEVENT
DTSTART;TZID=Europe/Berlin:20260522T193000
DTEND;TZID=Europe/Berlin:20260522T210000
DTSTAMP:20260422T054805
CREATED:20251211T144346Z
LAST-MODIFIED:20251211T144346Z
UID:14901-1779478200-1779483600@diekulturmacherin.de
SUMMARY:Halbzeit mit Aussicht
DESCRIPTION:
URL:https://diekulturmacherin.de/termin/halbzeit-mit-aussicht-3/
LOCATION:Möckmühl
END:VEVENT
BEGIN:VEVENT
DTSTART;TZID=Europe/Berlin:20260529T193000
DTEND;TZID=Europe/Berlin:20260529T203000
DTSTAMP:20260422T054805
CREATED:20251124T093130Z
LAST-MODIFIED:20251124T093130Z
UID:14754-1780083000-1780086600@diekulturmacherin.de
SUMMARY:Der Zauberlehrling
DESCRIPTION:
URL:https://diekulturmacherin.de/termin/der-zauberlehrling/
LOCATION:Kerpen
END:VEVENT
BEGIN:VEVENT
DTSTART;TZID=Europe/Berlin:20260529T193000
DTEND;TZID=Europe/Berlin:20260529T203000
DTSTAMP:20260422T054805
CREATED:20260330T122436Z
LAST-MODIFIED:20260330T122436Z
UID:15749-1780083000-1780086600@diekulturmacherin.de
SUMMARY:Hotel Vier Jahreszeiten
DESCRIPTION:
URL:https://diekulturmacherin.de/termin/hotel-vier-jahreszeiten-4/
LOCATION:Pritzwalk
END:VEVENT
BEGIN:VEVENT
DTSTART;TZID=Europe/Berlin:20260602T183000
DTEND;TZID=Europe/Berlin:20260602T193000
DTSTAMP:20260422T054805
CREATED:20260220T112226Z
LAST-MODIFIED:20260220T112226Z
UID:15403-1780425000-1780428600@diekulturmacherin.de
SUMMARY:Mordwind Rügen
DESCRIPTION:
URL:https://diekulturmacherin.de/termin/mordwind-ruegen-4/
LOCATION:Burg Storkow
END:VEVENT
BEGIN:VEVENT
DTSTART;TZID=Europe/Berlin:20260606T193000
DTEND;TZID=Europe/Berlin:20260606T200000
DTSTAMP:20260422T054805
CREATED:20250729T130252Z
LAST-MODIFIED:20250729T130252Z
UID:14132-1780774200-1780776000@diekulturmacherin.de
SUMMARY:Jung (Ü50) sucht...
DESCRIPTION:
URL:https://diekulturmacherin.de/termin/jung-ue50-sucht-9/
LOCATION:Ammersbek
END:VEVENT
BEGIN:VEVENT
DTSTART;TZID=Europe/Berlin:20260608T183000
DTEND;TZID=Europe/Berlin:20260608T193000
DTSTAMP:20260422T054805
CREATED:20251125T140621Z
LAST-MODIFIED:20251125T140621Z
UID:14773-1780943400-1780947000@diekulturmacherin.de
SUMMARY:Doch noch ein neuer Tag
DESCRIPTION:
URL:https://diekulturmacherin.de/termin/doch-noch-ein-neuer-tag/
LOCATION:Cottbus
END:VEVENT
BEGIN:VEVENT
DTSTART;TZID=Europe/Berlin:20260609T100000
DTEND;TZID=Europe/Berlin:20260609T110000
DTSTAMP:20260422T054805
CREATED:20251125T140709Z
LAST-MODIFIED:20251125T140709Z
UID:14775-1780999200-1781002800@diekulturmacherin.de
SUMMARY:Doch noch ein neuer Tag
DESCRIPTION:
URL:https://diekulturmacherin.de/termin/doch-noch-ein-neuer-tag-2/
LOCATION:Cottbus
END:VEVENT
BEGIN:VEVENT
DTSTART;TZID=Europe/Berlin:20260610T080000
DTEND;TZID=Europe/Berlin:20260610T090000
DTSTAMP:20260422T054805
CREATED:20250924T160248Z
LAST-MODIFIED:20250924T160248Z
UID:14418-1781078400-1781082000@diekulturmacherin.de
SUMMARY:Die Traumspinnerin
DESCRIPTION:
URL:https://diekulturmacherin.de/termin/die-traumspinnerin-8/
LOCATION:Hohenweststedt
END:VEVENT
BEGIN:VEVENT
DTSTART;TZID=Europe/Berlin:20260610T080000
DTEND;TZID=Europe/Berlin:20260610T090000
DTSTAMP:20260422T054805
CREATED:20260219T125041Z
LAST-MODIFIED:20260219T125041Z
UID:15385-1781078400-1781082000@diekulturmacherin.de
SUMMARY:Die wilden Kerle
DESCRIPTION:
URL:https://diekulturmacherin.de/termin/die-wilden-kerle-305/
LOCATION:BAd Dürrheim
END:VEVENT
BEGIN:VEVENT
DTSTART;TZID=Europe/Berlin:20260610T100000
DTEND;TZID=Europe/Berlin:20260610T110000
DTSTAMP:20260422T054805
CREATED:20260216T091416Z
LAST-MODIFIED:20260216T091416Z
UID:15352-1781085600-1781089200@diekulturmacherin.de
SUMMARY:Schüsse in der Stille
DESCRIPTION:
URL:https://diekulturmacherin.de/termin/schuesse-in-der-stille-12/
LOCATION:Großräschen
END:VEVENT
BEGIN:VEVENT
DTSTART;TZID=Europe/Berlin:20260610T103000
DTEND;TZID=Europe/Berlin:20260610T113000
DTSTAMP:20260422T054805
CREATED:20250924T160342Z
LAST-MODIFIED:20250924T160342Z
UID:14420-1781087400-1781091000@diekulturmacherin.de
SUMMARY:Die Traumspinnerin
DESCRIPTION:
URL:https://diekulturmacherin.de/termin/die-traumspinnerin-9/
LOCATION:Hohenweststedt
END:VEVENT
BEGIN:VEVENT
DTSTART;TZID=Europe/Berlin:20260610T103000
DTEND;TZID=Europe/Berlin:20260610T113000
DTSTAMP:20260422T054805
CREATED:20260219T125139Z
LAST-MODIFIED:20260219T125139Z
UID:15388-1781087400-1781091000@diekulturmacherin.de
SUMMARY:Die wilden Kerle
DESCRIPTION:
URL:https://diekulturmacherin.de/termin/die-wilden-kerle-306/
LOCATION:BAd Dürrheim
END:VEVENT
BEGIN:VEVENT
DTSTART;TZID=Europe/Berlin:20260610T180000
DTEND;TZID=Europe/Berlin:20260610T190000
DTSTAMP:20260422T054805
CREATED:20260216T091705Z
LAST-MODIFIED:20260216T091705Z
UID:15355-1781114400-1781118000@diekulturmacherin.de
SUMMARY:Schüsse in der Stille
DESCRIPTION:
URL:https://diekulturmacherin.de/termin/schuesse-in-der-stille-13/
END:VEVENT
BEGIN:VEVENT
DTSTART;TZID=Europe/Berlin:20260610T193000
DTEND;TZID=Europe/Berlin:20260610T210000
DTSTAMP:20260422T054805
CREATED:20251024T093730Z
LAST-MODIFIED:20251024T093730Z
UID:14602-1781119800-1781125200@diekulturmacherin.de
SUMMARY:Als der Sturm kam
DESCRIPTION:
URL:https://diekulturmacherin.de/termin/als-der-sturm-kam-2/
LOCATION:Henstedt-Ulzburg
END:VEVENT
BEGIN:VEVENT
DTSTART;TZID=Europe/Berlin:20260613T200000
DTEND;TZID=Europe/Berlin:20260613T220000
DTSTAMP:20260422T054805
CREATED:20250611T101030Z
LAST-MODIFIED:20250611T101030Z
UID:13816-1781380800-1781388000@diekulturmacherin.de
SUMMARY:Fiktion trifft Realität
DESCRIPTION:
URL:https://diekulturmacherin.de/termin/fiktion-trifft-realitaet-3/
LOCATION:Korb
END:VEVENT
END:VCALENDAR