BEGIN:VCALENDAR
VERSION:2.0
PRODID:-//DieKulturMacherin - ECPv6.15.20//NONSGML v1.0//EN
CALSCALE:GREGORIAN
METHOD:PUBLISH
X-WR-CALNAME:DieKulturMacherin
X-ORIGINAL-URL:https://diekulturmacherin.de
X-WR-CALDESC:Veranstaltungen für DieKulturMacherin
REFRESH-INTERVAL;VALUE=DURATION:PT1H
X-Robots-Tag:noindex
X-PUBLISHED-TTL:PT1H
BEGIN:VTIMEZONE
TZID:Europe/Berlin
BEGIN:DAYLIGHT
TZOFFSETFROM:+0100
TZOFFSETTO:+0200
TZNAME:CEST
DTSTART:20250330T010000
END:DAYLIGHT
BEGIN:STANDARD
TZOFFSETFROM:+0200
TZOFFSETTO:+0100
TZNAME:CET
DTSTART:20251026T010000
END:STANDARD
BEGIN:DAYLIGHT
TZOFFSETFROM:+0100
TZOFFSETTO:+0200
TZNAME:CEST
DTSTART:20260329T010000
END:DAYLIGHT
BEGIN:STANDARD
TZOFFSETFROM:+0200
TZOFFSETTO:+0100
TZNAME:CET
DTSTART:20261025T010000
END:STANDARD
BEGIN:DAYLIGHT
TZOFFSETFROM:+0100
TZOFFSETTO:+0200
TZNAME:CEST
DTSTART:20270328T010000
END:DAYLIGHT
BEGIN:STANDARD
TZOFFSETFROM:+0200
TZOFFSETTO:+0100
TZNAME:CET
DTSTART:20271031T010000
END:STANDARD
BEGIN:DAYLIGHT
TZOFFSETFROM:+0100
TZOFFSETTO:+0200
TZNAME:CEST
DTSTART:20280326T010000
END:DAYLIGHT
BEGIN:STANDARD
TZOFFSETFROM:+0200
TZOFFSETTO:+0100
TZNAME:CET
DTSTART:20281029T010000
END:STANDARD
END:VTIMEZONE
BEGIN:VEVENT
DTSTART;TZID=Europe/Berlin:20261212T150000
DTEND;TZID=Europe/Berlin:20261212T160000
DTSTAMP:20260423T180739
CREATED:20250901T163116Z
LAST-MODIFIED:20250901T163116Z
UID:14193-1797087600-1797091200@diekulturmacherin.de
SUMMARY:Elli Elfe hilft dem Christkind
DESCRIPTION:
URL:https://diekulturmacherin.de/termin/elli-elfe-hilft-dem-christkind-51/
LOCATION:Kirchheim bei München
END:VEVENT
BEGIN:VEVENT
DTSTART;TZID=Europe/Berlin:20261215T193000
DTEND;TZID=Europe/Berlin:20261215T203000
DTSTAMP:20260423T180739
CREATED:20260204T141703Z
LAST-MODIFIED:20260204T141703Z
UID:15277-1797363000-1797366600@diekulturmacherin.de
SUMMARY:Rilke Lesung
DESCRIPTION:
URL:https://diekulturmacherin.de/termin/rilke-lesung-15/
LOCATION:Ilmenau
END:VEVENT
BEGIN:VEVENT
DTSTART;TZID=Europe/Berlin:20270114T100000
DTEND;TZID=Europe/Berlin:20270114T110000
DTSTAMP:20260423T180740
CREATED:20260327T154522Z
LAST-MODIFIED:20260327T154522Z
UID:15733-1799920800-1799924400@diekulturmacherin.de
SUMMARY:Schüsse in der Stille
DESCRIPTION:
URL:https://diekulturmacherin.de/termin/schuesse-in-der-stille-32/
LOCATION:Barsbüttel
END:VEVENT
BEGIN:VEVENT
DTSTART;TZID=Europe/Berlin:20270115T190000
DTEND;TZID=Europe/Berlin:20270115T200000
DTSTAMP:20260423T180740
CREATED:20260309T172112Z
LAST-MODIFIED:20260309T172112Z
UID:15547-1800039600-1800043200@diekulturmacherin.de
SUMMARY:Schüsse in der Stille
DESCRIPTION:
URL:https://diekulturmacherin.de/termin/schuesse-in-der-stille-25/
LOCATION:Preetz
END:VEVENT
BEGIN:VEVENT
DTSTART;TZID=Europe/Berlin:20270117T160000
DTEND;TZID=Europe/Berlin:20270117T170000
DTSTAMP:20260423T180740
CREATED:20250929T121330Z
LAST-MODIFIED:20250929T121330Z
UID:14438-1800201600-1800205200@diekulturmacherin.de
SUMMARY:Samstagabendhelden
DESCRIPTION:
URL:https://diekulturmacherin.de/termin/samstagabendhelden-14/
LOCATION:Oststeinbek
END:VEVENT
BEGIN:VEVENT
DTSTART;TZID=Europe/Berlin:20270122T190000
DTEND;TZID=Europe/Berlin:20270122T200000
DTSTAMP:20260423T180740
CREATED:20260224T164320Z
LAST-MODIFIED:20260224T164320Z
UID:15438-1800644400-1800648000@diekulturmacherin.de
SUMMARY:Schüsse in der Stille
DESCRIPTION:
URL:https://diekulturmacherin.de/termin/schuesse-in-der-stille-18/
LOCATION:Ellerau
END:VEVENT
BEGIN:VEVENT
DTSTART;TZID=Europe/Berlin:20270127T100000
DTEND;TZID=Europe/Berlin:20270127T110000
DTSTAMP:20260423T180740
CREATED:20260305T090127Z
LAST-MODIFIED:20260305T090127Z
UID:15515-1801044000-1801047600@diekulturmacherin.de
SUMMARY:Schüsse in der Stille
DESCRIPTION:
URL:https://diekulturmacherin.de/termin/schuesse-in-der-stille-23/
LOCATION:Westerstede
END:VEVENT
BEGIN:VEVENT
DTSTART;TZID=Europe/Berlin:20270218T193000
DTEND;TZID=Europe/Berlin:20270218T203000
DTSTAMP:20260423T180740
CREATED:20260306T110244Z
LAST-MODIFIED:20260306T110244Z
UID:15526-1802979000-1802982600@diekulturmacherin.de
SUMMARY:Schüsse in der Stille
DESCRIPTION:
URL:https://diekulturmacherin.de/termin/schuesse-in-der-stille-24/
LOCATION:Lingen
END:VEVENT
BEGIN:VEVENT
DTSTART;TZID=Europe/Berlin:20270219T193000
DTEND;TZID=Europe/Berlin:20270219T203000
DTSTAMP:20260423T180740
CREATED:20260226T114518Z
LAST-MODIFIED:20260226T114518Z
UID:15463-1803065400-1803069000@diekulturmacherin.de
SUMMARY:Krass & Kauzig
DESCRIPTION:
URL:https://diekulturmacherin.de/termin/krass-kauzig/
LOCATION:Kirchheim bei München
END:VEVENT
BEGIN:VEVENT
DTSTART;TZID=Europe/Berlin:20270221T193000
DTEND;TZID=Europe/Berlin:20270221T203000
DTSTAMP:20260423T180740
CREATED:20251006T112405Z
LAST-MODIFIED:20251006T112405Z
UID:14469-1803238200-1803241800@diekulturmacherin.de
SUMMARY:Memories - Ein Elvis Abend
DESCRIPTION:
URL:https://diekulturmacherin.de/termin/memories-ein-elvis-abend-12/
LOCATION:Weinsberg
END:VEVENT
BEGIN:VEVENT
DTSTART;TZID=Europe/Berlin:20270227T193000
DTEND;TZID=Europe/Berlin:20270227T210000
DTSTAMP:20260423T180741
CREATED:20260325T104928Z
LAST-MODIFIED:20260325T104928Z
UID:15690-1803756600-1803762000@diekulturmacherin.de
SUMMARY:Mississippi revisited
DESCRIPTION:
URL:https://diekulturmacherin.de/termin/mississippi-revisited/
LOCATION:Hamburg
END:VEVENT
BEGIN:VEVENT
DTSTART;TZID=Europe/Berlin:20270304T150000
DTEND;TZID=Europe/Berlin:20270304T163000
DTSTAMP:20260423T180741
CREATED:20260203T113802Z
LAST-MODIFIED:20260203T113802Z
UID:15243-1804172400-1804177800@diekulturmacherin.de
SUMMARY:Die wilden Kerle
DESCRIPTION:
URL:https://diekulturmacherin.de/termin/die-wilden-kerle-295/
LOCATION:Kirchheim bei München
END:VEVENT
BEGIN:VEVENT
DTSTART;TZID=Europe/Berlin:20270305T150000
DTEND;TZID=Europe/Berlin:20270305T163000
DTSTAMP:20260423T180741
CREATED:20260225T095609Z
LAST-MODIFIED:20260225T095609Z
UID:15441-1804258800-1804264200@diekulturmacherin.de
SUMMARY:Prinzessin Alleswill und der kluge Frosch
DESCRIPTION:
URL:https://diekulturmacherin.de/termin/prinzessin-alleswill-und-der-kluge-frosch-25/
LOCATION:Köngen
END:VEVENT
BEGIN:VEVENT
DTSTART;TZID=Europe/Berlin:20270305T193000
DTEND;TZID=Europe/Berlin:20270305T203000
DTSTAMP:20260423T180741
CREATED:20260305T075125Z
LAST-MODIFIED:20260305T075125Z
UID:15508-1804275000-1804278600@diekulturmacherin.de
SUMMARY:Krass und Kauzig
DESCRIPTION:
URL:https://diekulturmacherin.de/termin/krass-und-kauzig/
LOCATION:Marl
END:VEVENT
BEGIN:VEVENT
DTSTART;TZID=Europe/Berlin:20270315T180000
DTEND;TZID=Europe/Berlin:20270315T190000
DTSTAMP:20260423T180741
CREATED:20260319T132833Z
LAST-MODIFIED:20260319T132833Z
UID:15642-1805133600-1805137200@diekulturmacherin.de
SUMMARY:Schüsse in der Stille
DESCRIPTION:
URL:https://diekulturmacherin.de/termin/schuesse-in-der-stille-27/
LOCATION:Schwedt
END:VEVENT
BEGIN:VEVENT
DTSTART;TZID=Europe/Berlin:20270318T090000
DTEND;TZID=Europe/Berlin:20270318T100000
DTSTAMP:20260423T180741
CREATED:20260327T144941Z
LAST-MODIFIED:20260327T144941Z
UID:15731-1805360400-1805364000@diekulturmacherin.de
SUMMARY:Das Rap Huhn
DESCRIPTION:
URL:https://diekulturmacherin.de/termin/das-rap-huhn-73/
LOCATION:Gotha
END:VEVENT
BEGIN:VEVENT
DTSTART;TZID=Europe/Berlin:20270511T100000
DTEND;TZID=Europe/Berlin:20270511T110000
DTSTAMP:20260423T180741
CREATED:20260325T161358Z
LAST-MODIFIED:20260325T161358Z
UID:15696-1810029600-1810033200@diekulturmacherin.de
SUMMARY:Schüsse in der Stille
DESCRIPTION:
URL:https://diekulturmacherin.de/termin/schuesse-in-der-stille-31/
LOCATION:Itzehoe
END:VEVENT
BEGIN:VEVENT
DTSTART;TZID=Europe/Berlin:20270524T190000
DTEND;TZID=Europe/Berlin:20270524T210000
DTSTAMP:20260423T180741
CREATED:20260216T103214Z
LAST-MODIFIED:20260216T103214Z
UID:15357-1811185200-1811192400@diekulturmacherin.de
SUMMARY:Schüsse in der Stille
DESCRIPTION:
URL:https://diekulturmacherin.de/termin/schuesse-in-der-stille-14/
LOCATION:Neubrandenburg
END:VEVENT
BEGIN:VEVENT
DTSTART;TZID=Europe/Berlin:20270527T193000
DTEND;TZID=Europe/Berlin:20270527T203000
DTSTAMP:20260423T180741
CREATED:20260330T105350Z
LAST-MODIFIED:20260330T105350Z
UID:15747-1811446200-1811449800@diekulturmacherin.de
SUMMARY:Achtung\, Vorurteil! - LeseKonzert
DESCRIPTION:
URL:https://diekulturmacherin.de/termin/achtung-vorurteil-lesekonzert/
LOCATION:Cuxhaven
END:VEVENT
BEGIN:VEVENT
DTSTART;TZID=Europe/Berlin:20270606T110000
DTEND;TZID=Europe/Berlin:20270606T120000
DTSTAMP:20260423T180741
CREATED:20260128T103252Z
LAST-MODIFIED:20260128T103252Z
UID:15178-1812279600-1812283200@diekulturmacherin.de
SUMMARY:Hüpfvergnügt
DESCRIPTION:
URL:https://diekulturmacherin.de/termin/huepfvergnuegt-43/
LOCATION:Vinningen
END:VEVENT
BEGIN:VEVENT
DTSTART;TZID=Europe/Berlin:20270826T183000
DTEND;TZID=Europe/Berlin:20270826T193000
DTSTAMP:20260423T180742
CREATED:20260323T101245Z
LAST-MODIFIED:20260323T101245Z
UID:15664-1819305000-1819308600@diekulturmacherin.de
SUMMARY:Unter Kommissaren - Fiktion trifft Realität
DESCRIPTION:
URL:https://diekulturmacherin.de/termin/unter-kommissaren-fiktion-trifft-realitaet-14/
LOCATION:Travemünde
END:VEVENT
BEGIN:VEVENT
DTSTART;TZID=Europe/Berlin:20270925T193000
DTEND;TZID=Europe/Berlin:20270925T203000
DTSTAMP:20260423T180742
CREATED:20260318T133714Z
LAST-MODIFIED:20260318T133714Z
UID:15637-1821900600-1821904200@diekulturmacherin.de
SUMMARY:Kriminal-Tango
DESCRIPTION:
URL:https://diekulturmacherin.de/termin/kriminal-tango-12/
LOCATION:Hagen
END:VEVENT
BEGIN:VEVENT
DTSTART;TZID=Europe/Berlin:20271007T190000
DTEND;TZID=Europe/Berlin:20271007T200000
DTSTAMP:20260423T180742
CREATED:20260319T133224Z
LAST-MODIFIED:20260319T133224Z
UID:15645-1822935600-1822939200@diekulturmacherin.de
SUMMARY:Mississippi
DESCRIPTION:
URL:https://diekulturmacherin.de/termin/mississippi-11/
LOCATION:Nettersheim
END:VEVENT
BEGIN:VEVENT
DTSTART;TZID=Europe/Berlin:20271027T200000
DTEND;TZID=Europe/Berlin:20271027T220000
DTSTAMP:20260423T180742
CREATED:20260326T133006Z
LAST-MODIFIED:20260326T133006Z
UID:15705-1824667200-1824674400@diekulturmacherin.de
SUMMARY:LeseKonzert  - Der Äthiopier (Ferdinand von Schirach)
DESCRIPTION:
URL:https://diekulturmacherin.de/termin/lesekonzert-der-aethiopier-ferdinand-von-schirach-2/
LOCATION:Neubiberg
END:VEVENT
BEGIN:VEVENT
DTSTART;TZID=Europe/Berlin:20271114T180000
DTEND;TZID=Europe/Berlin:20271114T190000
DTSTAMP:20260423T180742
CREATED:20260128T142545Z
LAST-MODIFIED:20260128T142545Z
UID:15182-1826215200-1826218800@diekulturmacherin.de
SUMMARY:Hotel Vier Jahreszeiten
DESCRIPTION:
URL:https://diekulturmacherin.de/termin/hotel-vier-jahreszeiten-3/
LOCATION:Oststeinbek
END:VEVENT
END:VCALENDAR