BEGIN:VCALENDAR
VERSION:2.0
PRODID:-//DieKulturMacherin - ECPv6.15.20//NONSGML v1.0//EN
CALSCALE:GREGORIAN
METHOD:PUBLISH
X-WR-CALNAME:DieKulturMacherin
X-ORIGINAL-URL:https://diekulturmacherin.de
X-WR-CALDESC:Veranstaltungen für DieKulturMacherin
REFRESH-INTERVAL;VALUE=DURATION:PT1H
X-Robots-Tag:noindex
X-PUBLISHED-TTL:PT1H
BEGIN:VTIMEZONE
TZID:Europe/Berlin
BEGIN:DAYLIGHT
TZOFFSETFROM:+0100
TZOFFSETTO:+0200
TZNAME:CEST
DTSTART:20250330T010000
END:DAYLIGHT
BEGIN:STANDARD
TZOFFSETFROM:+0200
TZOFFSETTO:+0100
TZNAME:CET
DTSTART:20251026T010000
END:STANDARD
BEGIN:DAYLIGHT
TZOFFSETFROM:+0100
TZOFFSETTO:+0200
TZNAME:CEST
DTSTART:20260329T010000
END:DAYLIGHT
BEGIN:STANDARD
TZOFFSETFROM:+0200
TZOFFSETTO:+0100
TZNAME:CET
DTSTART:20261025T010000
END:STANDARD
BEGIN:DAYLIGHT
TZOFFSETFROM:+0100
TZOFFSETTO:+0200
TZNAME:CEST
DTSTART:20270328T010000
END:DAYLIGHT
BEGIN:STANDARD
TZOFFSETFROM:+0200
TZOFFSETTO:+0100
TZNAME:CET
DTSTART:20271031T010000
END:STANDARD
END:VTIMEZONE
BEGIN:VEVENT
DTSTART;TZID=Europe/Berlin:20261023T193000
DTEND;TZID=Europe/Berlin:20261023T203000
DTSTAMP:20260423T095354
CREATED:20250901T162741Z
LAST-MODIFIED:20250901T162741Z
UID:14187-1792783800-1792787400@diekulturmacherin.de
SUMMARY:Rilke Lesung
DESCRIPTION:
URL:https://diekulturmacherin.de/termin/rilke-lesung-7/
LOCATION:Donauwörth
END:VEVENT
BEGIN:VEVENT
DTSTART;TZID=Europe/Berlin:20261023T193000
DTEND;TZID=Europe/Berlin:20261023T210000
DTSTAMP:20260423T095354
CREATED:20260220T101748Z
LAST-MODIFIED:20260220T101748Z
UID:15399-1792783800-1792789200@diekulturmacherin.de
SUMMARY:Memories - Ein Elvis Abend
DESCRIPTION:
URL:https://diekulturmacherin.de/termin/memories-ein-elvis-abend-14/
LOCATION:Duderstadt
END:VEVENT
BEGIN:VEVENT
DTSTART;TZID=Europe/Berlin:20261024T193000
DTEND;TZID=Europe/Berlin:20261024T200000
DTSTAMP:20260423T095354
CREATED:20251105T084739Z
LAST-MODIFIED:20251105T084739Z
UID:14678-1792870200-1792872000@diekulturmacherin.de
SUMMARY:Samstagabendhelden
DESCRIPTION:
URL:https://diekulturmacherin.de/termin/samstagabendhelden-15/
LOCATION:Pforzheim
END:VEVENT
BEGIN:VEVENT
DTSTART;TZID=Europe/Berlin:20261024T193000
DTEND;TZID=Europe/Berlin:20261024T200000
DTSTAMP:20260423T095354
CREATED:20260330T084316Z
LAST-MODIFIED:20260330T084316Z
UID:15744-1792870200-1792872000@diekulturmacherin.de
SUMMARY:Coco Chanel Lesung
DESCRIPTION:
URL:https://diekulturmacherin.de/termin/coco-chanel-lesung-17/
LOCATION:Eichenau
END:VEVENT
BEGIN:VEVENT
DTSTART;TZID=Europe/Berlin:20261024T200000
DTEND;TZID=Europe/Berlin:20261024T210000
DTSTAMP:20260423T095354
CREATED:20250225T152646Z
LAST-MODIFIED:20250225T152646Z
UID:13166-1792872000-1792875600@diekulturmacherin.de
SUMMARY:LeseKonzert Nachtgedanken
DESCRIPTION:
URL:https://diekulturmacherin.de/termin/lesekonzert-nachtgedanken-4/
LOCATION:Holzgerlingen
END:VEVENT
BEGIN:VEVENT
DTSTART;TZID=Europe/Berlin:20261025T163000
DTEND;TZID=Europe/Berlin:20261025T173000
DTSTAMP:20260423T095354
CREATED:20251216T124753Z
LAST-MODIFIED:20251216T124753Z
UID:14940-1792945800-1792949400@diekulturmacherin.de
SUMMARY:Nachtgedanken - LeseKonzert
DESCRIPTION:
URL:https://diekulturmacherin.de/termin/nachtgedanken-lesekonzert-8/
LOCATION:Schweich
END:VEVENT
BEGIN:VEVENT
DTSTART;TZID=Europe/Berlin:20261028T100000
DTEND;TZID=Europe/Berlin:20261028T110000
DTSTAMP:20260423T095354
CREATED:20260407T154910Z
LAST-MODIFIED:20260407T154910Z
UID:15785-1793181600-1793185200@diekulturmacherin.de
SUMMARY:Schüsse in der Stille
DESCRIPTION:
URL:https://diekulturmacherin.de/termin/schuesse-in-der-stille-34/
LOCATION:Randental
END:VEVENT
BEGIN:VEVENT
DTSTART;TZID=Europe/Berlin:20261028T160000
DTEND;TZID=Europe/Berlin:20261028T170000
DTSTAMP:20260423T095354
CREATED:20250902T150107Z
LAST-MODIFIED:20250902T151751Z
UID:14203-1793203200-1793206800@diekulturmacherin.de
SUMMARY:Hotel Vier Jahreszeiten
DESCRIPTION:
URL:https://diekulturmacherin.de/termin/hotel-vier-jahreszeiten/
LOCATION:Großhansdorf
END:VEVENT
BEGIN:VEVENT
DTSTART;TZID=Europe/Berlin:20261028T190000
DTEND;TZID=Europe/Berlin:20261028T200000
DTSTAMP:20260423T095354
CREATED:20260128T111951Z
LAST-MODIFIED:20260128T111951Z
UID:15180-1793214000-1793217600@diekulturmacherin.de
SUMMARY:Coco Chanel Lesung
DESCRIPTION:
URL:https://diekulturmacherin.de/termin/coco-chanel-lesung-16/
LOCATION:Wittstock
END:VEVENT
BEGIN:VEVENT
DTSTART;TZID=Europe/Berlin:20261028T190000
DTEND;TZID=Europe/Berlin:20261028T203000
DTSTAMP:20260423T095354
CREATED:20251209T100342Z
LAST-MODIFIED:20251209T100342Z
UID:14869-1793214000-1793219400@diekulturmacherin.de
SUMMARY:Halbzeit mit Aussicht
DESCRIPTION:
URL:https://diekulturmacherin.de/termin/halbzeit-mit-aussicht-2/
LOCATION:Ganderkesee
END:VEVENT
BEGIN:VEVENT
DTSTART;TZID=Europe/Berlin:20261029T100000
DTEND;TZID=Europe/Berlin:20261029T110000
DTSTAMP:20260423T095354
CREATED:20260407T155015Z
LAST-MODIFIED:20260407T155015Z
UID:15788-1793268000-1793271600@diekulturmacherin.de
SUMMARY:Schüsse in der Stille
DESCRIPTION:
URL:https://diekulturmacherin.de/termin/schuesse-in-der-stille-35/
LOCATION:Schaffhausen
END:VEVENT
BEGIN:VEVENT
DTSTART;TZID=Europe/Berlin:20261029T193000
DTEND;TZID=Europe/Berlin:20261029T203000
DTSTAMP:20260423T095355
CREATED:20250926T130717Z
LAST-MODIFIED:20250926T130939Z
UID:14429-1793302200-1793305800@diekulturmacherin.de
SUMMARY:Rilke Lesung
DESCRIPTION:
URL:https://diekulturmacherin.de/termin/rilke-lesung-12/
LOCATION:Lichtenstein
END:VEVENT
BEGIN:VEVENT
DTSTART;TZID=Europe/Berlin:20261029T193000
DTEND;TZID=Europe/Berlin:20261029T203000
DTSTAMP:20260423T095355
CREATED:20251103T111439Z
LAST-MODIFIED:20251103T111439Z
UID:14659-1793302200-1793305800@diekulturmacherin.de
SUMMARY:Musenkind und Maulkorb - Grammophonlesung
DESCRIPTION:
URL:https://diekulturmacherin.de/termin/musenkind-und-maulkorb-grammophonlesung/
LOCATION:Garching
END:VEVENT
BEGIN:VEVENT
DTSTART;TZID=Europe/Berlin:20261030T190000
DTEND;TZID=Europe/Berlin:20261030T213000
DTSTAMP:20260423T095355
CREATED:20260320T091817Z
LAST-MODIFIED:20260320T091817Z
UID:15657-1793386800-1793395800@diekulturmacherin.de
SUMMARY:Wattenmeerzorn
DESCRIPTION:
URL:https://diekulturmacherin.de/termin/wattenmeerzorn-3/
LOCATION:Radeberg
END:VEVENT
BEGIN:VEVENT
DTSTART;TZID=Europe/Berlin:20261030T193000
DTEND;TZID=Europe/Berlin:20261030T210000
DTSTAMP:20260423T095355
CREATED:20251212T104957Z
LAST-MODIFIED:20251212T104957Z
UID:14915-1793388600-1793394000@diekulturmacherin.de
SUMMARY:Coco Chanel Lesung
DESCRIPTION:
URL:https://diekulturmacherin.de/termin/coco-chanel-lesung-14/
LOCATION:Malchow
END:VEVENT
BEGIN:VEVENT
DTSTART;TZID=Europe/Berlin:20261031T163000
DTEND;TZID=Europe/Berlin:20261031T173000
DTSTAMP:20260423T095355
CREATED:20250203T143704Z
LAST-MODIFIED:20250203T143704Z
UID:12973-1793464200-1793467800@diekulturmacherin.de
SUMMARY:Ritter Rost
DESCRIPTION:
URL:https://diekulturmacherin.de/termin/ritter-rost-62/
LOCATION:Gifhorn
END:VEVENT
BEGIN:VEVENT
DTSTART;TZID=Europe/Berlin:20261104T183000
DTEND;TZID=Europe/Berlin:20261104T193000
DTSTAMP:20260423T095355
CREATED:20251217T111110Z
LAST-MODIFIED:20251217T111110Z
UID:14947-1793817000-1793820600@diekulturmacherin.de
SUMMARY:Faszination Sherlock Holmes
DESCRIPTION:
URL:https://diekulturmacherin.de/termin/faszination-sherlock-holmes-3/
LOCATION:Walldürn
END:VEVENT
BEGIN:VEVENT
DTSTART;TZID=Europe/Berlin:20261104T193000
DTEND;TZID=Europe/Berlin:20261104T203000
DTSTAMP:20260423T095355
CREATED:20251203T161641Z
LAST-MODIFIED:20251203T161730Z
UID:14839-1793820600-1793824200@diekulturmacherin.de
SUMMARY:Halbzeit mit Aussicht
DESCRIPTION:
URL:https://diekulturmacherin.de/termin/halbzeit-mit-aussicht/
LOCATION:Unna
END:VEVENT
BEGIN:VEVENT
DTSTART;TZID=Europe/Berlin:20261106T183000
DTEND;TZID=Europe/Berlin:20261106T210000
DTSTAMP:20260423T095355
CREATED:20260410T102627Z
LAST-MODIFIED:20260410T102627Z
UID:15812-1793989800-1793998800@diekulturmacherin.de
SUMMARY:Mordwind Rügen
DESCRIPTION:
URL:https://diekulturmacherin.de/termin/mordwind-ruegen-6/
LOCATION:Königs Wusterhausen
END:VEVENT
BEGIN:VEVENT
DTSTART;TZID=Europe/Berlin:20261107T193000
DTEND;TZID=Europe/Berlin:20261107T203000
DTSTAMP:20260423T095355
CREATED:20251124T092904Z
LAST-MODIFIED:20251124T092904Z
UID:14749-1794079800-1794083400@diekulturmacherin.de
SUMMARY:Hotel Vier Jahreszeiten
DESCRIPTION:
URL:https://diekulturmacherin.de/termin/hotel-vier-jahreszeiten-2/
LOCATION:Worms
END:VEVENT
BEGIN:VEVENT
DTSTART;TZID=Europe/Berlin:20261110T080000
DTEND;TZID=Europe/Berlin:20261110T090000
DTSTAMP:20260423T095355
CREATED:20260305T122721Z
LAST-MODIFIED:20260305T122721Z
UID:15518-1794297600-1794301200@diekulturmacherin.de
SUMMARY:Die wilden Kerle
DESCRIPTION:
URL:https://diekulturmacherin.de/termin/die-wilden-kerle-309/
LOCATION:Falkenberg
END:VEVENT
BEGIN:VEVENT
DTSTART;TZID=Europe/Berlin:20261113T080000
DTEND;TZID=Europe/Berlin:20261113T090000
DTSTAMP:20260423T095355
CREATED:20260203T103216Z
LAST-MODIFIED:20260203T103216Z
UID:15234-1794556800-1794560400@diekulturmacherin.de
SUMMARY:Schüsse in der Stille
DESCRIPTION:
URL:https://diekulturmacherin.de/termin/schuesse-in-der-stille-9/
LOCATION:Illertissen
END:VEVENT
BEGIN:VEVENT
DTSTART;TZID=Europe/Berlin:20261113T100000
DTEND;TZID=Europe/Berlin:20261113T110000
DTSTAMP:20260423T095355
CREATED:20251223T125837Z
LAST-MODIFIED:20251223T125837Z
UID:14973-1794564000-1794567600@diekulturmacherin.de
SUMMARY:Wir wollen mobbingfrei
DESCRIPTION:
URL:https://diekulturmacherin.de/termin/wir-wollen-mobbingfrei-32/
LOCATION:Bielefeld
END:VEVENT
BEGIN:VEVENT
DTSTART;TZID=Europe/Berlin:20261113T193000
DTEND;TZID=Europe/Berlin:20261113T210000
DTSTAMP:20260423T095355
CREATED:20260122T104314Z
LAST-MODIFIED:20260122T104314Z
UID:15103-1794598200-1794603600@diekulturmacherin.de
SUMMARY:Mehr Chaos\, mehr Liebe!
DESCRIPTION:
URL:https://diekulturmacherin.de/termin/mehr-chaos-mehr-liebe-7/
LOCATION:Datteln
END:VEVENT
BEGIN:VEVENT
DTSTART;TZID=Europe/Berlin:20261113T193000
DTEND;TZID=Europe/Berlin:20261113T210000
DTSTAMP:20260423T095355
CREATED:20260203T103326Z
LAST-MODIFIED:20260203T103326Z
UID:15236-1794598200-1794603600@diekulturmacherin.de
SUMMARY:Schüsse in der Stille
DESCRIPTION:
URL:https://diekulturmacherin.de/termin/schuesse-in-der-stille-10/
LOCATION:Illertissen
END:VEVENT
BEGIN:VEVENT
DTSTART;TZID=Europe/Berlin:20261118T100000
DTEND;TZID=Europe/Berlin:20261118T110000
DTSTAMP:20260423T095355
CREATED:20260318T101136Z
LAST-MODIFIED:20260318T101136Z
UID:15622-1794996000-1794999600@diekulturmacherin.de
SUMMARY:Die wilden Kerle
DESCRIPTION:
URL:https://diekulturmacherin.de/termin/die-wilden-kerle-313/
END:VEVENT
BEGIN:VEVENT
DTSTART;TZID=Europe/Berlin:20261118T190000
DTEND;TZID=Europe/Berlin:20261118T203000
DTSTAMP:20260423T095355
CREATED:20260409T105353Z
LAST-MODIFIED:20260409T105353Z
UID:15804-1795028400-1795033800@diekulturmacherin.de
SUMMARY:Doch noch ein neuer Tag
DESCRIPTION:
URL:https://diekulturmacherin.de/termin/doch-noch-ein-neuer-tag-9/
LOCATION:Verl
END:VEVENT
BEGIN:VEVENT
DTSTART;TZID=Europe/Berlin:20261118T193000
DTEND;TZID=Europe/Berlin:20261118T210000
DTSTAMP:20260423T095355
CREATED:20250911T130426Z
LAST-MODIFIED:20250911T130426Z
UID:14296-1795030200-1795035600@diekulturmacherin.de
SUMMARY:Memories - Ein Elvis Abend
DESCRIPTION:
URL:https://diekulturmacherin.de/termin/memories-ein-elvis-abend-9/
LOCATION:Bad Nenndorf
END:VEVENT
BEGIN:VEVENT
DTSTART;TZID=Europe/Berlin:20261118T193000
DTEND;TZID=Europe/Berlin:20261118T213000
DTSTAMP:20260423T095355
CREATED:20260318T101413Z
LAST-MODIFIED:20260318T101413Z
UID:15624-1795030200-1795037400@diekulturmacherin.de
SUMMARY:Fiktion trifft Realität
DESCRIPTION:
URL:https://diekulturmacherin.de/termin/fiktion-trifft-realitaet-7/
LOCATION:Hohenweststedt
END:VEVENT
BEGIN:VEVENT
DTSTART;TZID=Europe/Berlin:20261119T100000
DTEND;TZID=Europe/Berlin:20261119T110000
DTSTAMP:20260423T095355
CREATED:20260218T104831Z
LAST-MODIFIED:20260218T104831Z
UID:15378-1795082400-1795086000@diekulturmacherin.de
SUMMARY:Die wilden Kerle
DESCRIPTION:
URL:https://diekulturmacherin.de/termin/die-wilden-kerle-304/
LOCATION:Stuttgart
END:VEVENT
END:VCALENDAR