BEGIN:VCALENDAR
VERSION:2.0
PRODID:-//DieKulturMacherin - ECPv6.15.20//NONSGML v1.0//EN
CALSCALE:GREGORIAN
METHOD:PUBLISH
X-ORIGINAL-URL:https://diekulturmacherin.de
X-WR-CALDESC:Veranstaltungen für DieKulturMacherin
REFRESH-INTERVAL;VALUE=DURATION:PT1H
X-Robots-Tag:noindex
X-PUBLISHED-TTL:PT1H
BEGIN:VTIMEZONE
TZID:Europe/Berlin
BEGIN:DAYLIGHT
TZOFFSETFROM:+0100
TZOFFSETTO:+0200
TZNAME:CEST
DTSTART:20250330T010000
END:DAYLIGHT
BEGIN:STANDARD
TZOFFSETFROM:+0200
TZOFFSETTO:+0100
TZNAME:CET
DTSTART:20251026T010000
END:STANDARD
BEGIN:DAYLIGHT
TZOFFSETFROM:+0100
TZOFFSETTO:+0200
TZNAME:CEST
DTSTART:20260329T010000
END:DAYLIGHT
BEGIN:STANDARD
TZOFFSETFROM:+0200
TZOFFSETTO:+0100
TZNAME:CET
DTSTART:20261025T010000
END:STANDARD
BEGIN:DAYLIGHT
TZOFFSETFROM:+0100
TZOFFSETTO:+0200
TZNAME:CEST
DTSTART:20270328T010000
END:DAYLIGHT
BEGIN:STANDARD
TZOFFSETFROM:+0200
TZOFFSETTO:+0100
TZNAME:CET
DTSTART:20271031T010000
END:STANDARD
END:VTIMEZONE
BEGIN:VEVENT
DTSTART;TZID=Europe/Berlin:20261012T110000
DTEND;TZID=Europe/Berlin:20261012T120000
DTSTAMP:20260423T052200
CREATED:20260325T173544Z
LAST-MODIFIED:20260325T173544Z
UID:15701-1791802800-1791806400@diekulturmacherin.de
SUMMARY:Lian\, die Tierdetektivin
DESCRIPTION:
URL:https://diekulturmacherin.de/termin/lian-die-tierdetektivin-9/
LOCATION:Heilbronn
END:VEVENT
BEGIN:VEVENT
DTSTART;TZID=Europe/Berlin:20261012T113000
DTEND;TZID=Europe/Berlin:20261012T123000
DTSTAMP:20260423T052201
CREATED:20260128T173530Z
LAST-MODIFIED:20260128T173530Z
UID:15193-1791804600-1791808200@diekulturmacherin.de
SUMMARY:Die wilden Kerle
DESCRIPTION:
URL:https://diekulturmacherin.de/termin/die-wilden-kerle-288/
LOCATION:Nüringen
END:VEVENT
BEGIN:VEVENT
DTSTART;TZID=Europe/Berlin:20261012T133000
DTEND;TZID=Europe/Berlin:20261012T150000
DTSTAMP:20260423T052201
CREATED:20251218T104026Z
LAST-MODIFIED:20251218T104042Z
UID:14951-1791811800-1791817200@diekulturmacherin.de
SUMMARY:Team Campus - Lesung zur Fußball WM
DESCRIPTION:
URL:https://diekulturmacherin.de/termin/team-campus-lesung-zur-fussball-wm/
LOCATION:Talheim
END:VEVENT
BEGIN:VEVENT
DTSTART;TZID=Europe/Berlin:20261013T080000
DTEND;TZID=Europe/Berlin:20261013T090000
DTSTAMP:20260423T052201
CREATED:20260128T173626Z
LAST-MODIFIED:20260128T173626Z
UID:15196-1791878400-1791882000@diekulturmacherin.de
SUMMARY:Die wilden Kerle
DESCRIPTION:
URL:https://diekulturmacherin.de/termin/die-wilden-kerle-289/
LOCATION:Nürtingen
END:VEVENT
BEGIN:VEVENT
DTSTART;TZID=Europe/Berlin:20261013T100000
DTEND;TZID=Europe/Berlin:20261013T110000
DTSTAMP:20260423T052201
CREATED:20260128T173717Z
LAST-MODIFIED:20260128T173717Z
UID:15198-1791885600-1791889200@diekulturmacherin.de
SUMMARY:Die wilden Kerle
DESCRIPTION:
URL:https://diekulturmacherin.de/termin/die-wilden-kerle-290/
LOCATION:Nürtingen
END:VEVENT
BEGIN:VEVENT
DTSTART;TZID=Europe/Berlin:20261013T100000
DTEND;TZID=Europe/Berlin:20261013T110000
DTSTAMP:20260423T052201
CREATED:20260204T125009Z
LAST-MODIFIED:20260204T125009Z
UID:15270-1791885600-1791889200@diekulturmacherin.de
SUMMARY:Balduin bleibt grün
DESCRIPTION:
URL:https://diekulturmacherin.de/termin/balduin-bleibt-gruen-61/
LOCATION:Bochum
END:VEVENT
BEGIN:VEVENT
DTSTART;TZID=Europe/Berlin:20261013T190000
DTEND;TZID=Europe/Berlin:20261013T203000
DTSTAMP:20260423T052201
CREATED:20250703T152841Z
LAST-MODIFIED:20250703T152841Z
UID:13991-1791918000-1791923400@diekulturmacherin.de
SUMMARY:Mehr Chaos\, mehr Liebe!
DESCRIPTION:
URL:https://diekulturmacherin.de/termin/mehr-chaos-mehr-liebe/
LOCATION:Teterow
END:VEVENT
BEGIN:VEVENT
DTSTART;TZID=Europe/Berlin:20261014T080000
DTEND;TZID=Europe/Berlin:20261014T090000
DTSTAMP:20260423T052201
CREATED:20260318T111837Z
LAST-MODIFIED:20260318T111837Z
UID:15626-1791964800-1791968400@diekulturmacherin.de
SUMMARY:Die wilden Kerle
DESCRIPTION:
URL:https://diekulturmacherin.de/termin/die-wilden-kerle-314/
LOCATION:Rot a.d. Rot
END:VEVENT
BEGIN:VEVENT
DTSTART;TZID=Europe/Berlin:20261014T093000
DTEND;TZID=Europe/Berlin:20261014T103000
DTSTAMP:20260423T052201
CREATED:20260318T111944Z
LAST-MODIFIED:20260318T111944Z
UID:15629-1791970200-1791973800@diekulturmacherin.de
SUMMARY:Die wilden Kerle
DESCRIPTION:
URL:https://diekulturmacherin.de/termin/die-wilden-kerle-315/
LOCATION:Rot a.d. Rot
END:VEVENT
BEGIN:VEVENT
DTSTART;TZID=Europe/Berlin:20261014T120000
DTEND;TZID=Europe/Berlin:20261014T130000
DTSTAMP:20260423T052201
CREATED:20260318T112104Z
LAST-MODIFIED:20260318T112104Z
UID:15631-1791979200-1791982800@diekulturmacherin.de
SUMMARY:Die wilden Kerle
DESCRIPTION:
URL:https://diekulturmacherin.de/termin/die-wilden-kerle-316/
LOCATION:Haslach
END:VEVENT
BEGIN:VEVENT
DTSTART;TZID=Europe/Berlin:20261015T080000
DTEND;TZID=Europe/Berlin:20261015T090000
DTSTAMP:20260423T052201
CREATED:20251202T131639Z
LAST-MODIFIED:20251202T131639Z
UID:14831-1792051200-1792054800@diekulturmacherin.de
SUMMARY:Fantomaus - Plötzlich Superheld
DESCRIPTION:
URL:https://diekulturmacherin.de/termin/fantomaus-ploetzlich-superheld-9/
LOCATION:Ehingen (Donau)
END:VEVENT
BEGIN:VEVENT
DTSTART;TZID=Europe/Berlin:20261015T160000
DTEND;TZID=Europe/Berlin:20261015T170000
DTSTAMP:20260423T052201
CREATED:20260204T125134Z
LAST-MODIFIED:20260204T125134Z
UID:15272-1792080000-1792083600@diekulturmacherin.de
SUMMARY:Balduin bleibt grün
DESCRIPTION:
URL:https://diekulturmacherin.de/termin/balduin-bleibt-gruen-62/
LOCATION:Bochum
END:VEVENT
BEGIN:VEVENT
DTSTART;TZID=Europe/Berlin:20261015T193000
DTEND;TZID=Europe/Berlin:20261015T203000
DTSTAMP:20260423T052201
CREATED:20260323T094901Z
LAST-MODIFIED:20260323T094901Z
UID:15662-1792092600-1792096200@diekulturmacherin.de
SUMMARY:Doch noch ein neuer Tag
DESCRIPTION:
URL:https://diekulturmacherin.de/termin/doch-noch-ein-neuer-tag-5/
LOCATION:Dinklage
END:VEVENT
BEGIN:VEVENT
DTSTART;TZID=Europe/Berlin:20261016T183000
DTEND;TZID=Europe/Berlin:20261016T193000
DTSTAMP:20260423T052201
CREATED:20250916T133443Z
LAST-MODIFIED:20250916T133443Z
UID:14326-1792175400-1792179000@diekulturmacherin.de
SUMMARY:Rilke Lesung
DESCRIPTION:
URL:https://diekulturmacherin.de/termin/rilke-lesung-10/
LOCATION:Düsseldorf
END:VEVENT
BEGIN:VEVENT
DTSTART;TZID=Europe/Berlin:20261016T193000
DTEND;TZID=Europe/Berlin:20261016T203000
DTSTAMP:20260423T052201
CREATED:20250319T161005Z
LAST-MODIFIED:20250319T161005Z
UID:13334-1792179000-1792182600@diekulturmacherin.de
SUMMARY:LeseKonzert Nachtgedanken
DESCRIPTION:
URL:https://diekulturmacherin.de/termin/lesekonzert-nachtgedanken-5/
LOCATION:Salzgitter
END:VEVENT
BEGIN:VEVENT
DTSTART;TZID=Europe/Berlin:20261016T193000
DTEND;TZID=Europe/Berlin:20261016T203000
DTSTAMP:20260423T052201
CREATED:20251106T181801Z
LAST-MODIFIED:20251106T181801Z
UID:14692-1792179000-1792182600@diekulturmacherin.de
SUMMARY:Swinging Lyrics
DESCRIPTION:
URL:https://diekulturmacherin.de/termin/swinging-lyrics-6/
LOCATION:Farsleben
END:VEVENT
BEGIN:VEVENT
DTSTART;TZID=Europe/Berlin:20261017T100000
DTEND;TZID=Europe/Berlin:20261017T110000
DTSTAMP:20260423T052201
CREATED:20250319T161154Z
LAST-MODIFIED:20250319T161154Z
UID:13336-1792231200-1792234800@diekulturmacherin.de
SUMMARY:Ritter Rost
DESCRIPTION:
URL:https://diekulturmacherin.de/termin/ritter-rost-65/
LOCATION:Salzgitter
END:VEVENT
BEGIN:VEVENT
DTSTART;TZID=Europe/Berlin:20261017T193000
DTEND;TZID=Europe/Berlin:20261017T210000
DTSTAMP:20260423T052201
CREATED:20250922T131323Z
LAST-MODIFIED:20250922T131323Z
UID:14381-1792265400-1792270800@diekulturmacherin.de
SUMMARY:Mississippi
DESCRIPTION:
URL:https://diekulturmacherin.de/termin/mississippi-10/
LOCATION:Altdorf
END:VEVENT
BEGIN:VEVENT
DTSTART;TZID=Europe/Berlin:20261019T080000
DTEND;TZID=Europe/Berlin:20261019T090000
DTSTAMP:20260423T052201
CREATED:20260326T140313Z
LAST-MODIFIED:20260326T140313Z
UID:15707-1792396800-1792400400@diekulturmacherin.de
SUMMARY:Egon und der wilde Müll im Wald
DESCRIPTION:
URL:https://diekulturmacherin.de/termin/egon-und-der-wilde-muell-im-wald-4/
LOCATION:Ostelsheim
END:VEVENT
BEGIN:VEVENT
DTSTART;TZID=Europe/Berlin:20261020T090000
DTEND;TZID=Europe/Berlin:20261020T110000
DTSTAMP:20260423T052201
CREATED:20260326T140757Z
LAST-MODIFIED:20260326T140757Z
UID:15710-1792486800-1792494000@diekulturmacherin.de
SUMMARY:Egon und der wilde Müll im Wald
DESCRIPTION:
URL:https://diekulturmacherin.de/termin/egon-und-der-wilde-muell-im-wald-5/
LOCATION:Gechingen
END:VEVENT
BEGIN:VEVENT
DTSTART;TZID=Europe/Berlin:20261020T100000
DTEND;TZID=Europe/Berlin:20261020T110000
DTSTAMP:20260423T052202
CREATED:20260326T140917Z
LAST-MODIFIED:20260326T140917Z
UID:15713-1792490400-1792494000@diekulturmacherin.de
SUMMARY:Egon und der wilde Müll im Wald
DESCRIPTION:
URL:https://diekulturmacherin.de/termin/egon-und-der-wilde-muell-im-wald-6/
LOCATION:Gechingen
END:VEVENT
BEGIN:VEVENT
DTSTART;TZID=Europe/Berlin:20261021T090000
DTEND;TZID=Europe/Berlin:20261021T100000
DTSTAMP:20260423T052202
CREATED:20260330T124200Z
LAST-MODIFIED:20260330T124200Z
UID:15751-1792573200-1792576800@diekulturmacherin.de
SUMMARY:Das Rap Huhn
DESCRIPTION:
URL:https://diekulturmacherin.de/termin/das-rap-huhn-74/
LOCATION:Ertingen
END:VEVENT
BEGIN:VEVENT
DTSTART;TZID=Europe/Berlin:20261021T093000
DTEND;TZID=Europe/Berlin:20261021T103000
DTSTAMP:20260423T052202
CREATED:20260319T160734Z
LAST-MODIFIED:20260319T160734Z
UID:15647-1792575000-1792578600@diekulturmacherin.de
SUMMARY:Schüsse in der Stille
DESCRIPTION:
URL:https://diekulturmacherin.de/termin/schuesse-in-der-stille-28/
LOCATION:Zürich
END:VEVENT
BEGIN:VEVENT
DTSTART;TZID=Europe/Berlin:20261021T100000
DTEND;TZID=Europe/Berlin:20261021T110000
DTSTAMP:20260423T052202
CREATED:20260130T143227Z
LAST-MODIFIED:20260130T143227Z
UID:15217-1792576800-1792580400@diekulturmacherin.de
SUMMARY:Die wilden Kerle
DESCRIPTION:
URL:https://diekulturmacherin.de/termin/die-wilden-kerle-292/
LOCATION:Heroldstatt
END:VEVENT
BEGIN:VEVENT
DTSTART;TZID=Europe/Berlin:20261021T160000
DTEND;TZID=Europe/Berlin:20261021T170000
DTSTAMP:20260423T052202
CREATED:20260127T083504Z
LAST-MODIFIED:20260127T083504Z
UID:15162-1792598400-1792602000@diekulturmacherin.de
SUMMARY:Hedi Hummel und die grauen Gärten
DESCRIPTION:
URL:https://diekulturmacherin.de/termin/hedi-hummel-und-die-grauen-gaerten/
LOCATION:Rothenburg
END:VEVENT
BEGIN:VEVENT
DTSTART;TZID=Europe/Berlin:20261022T083000
DTEND;TZID=Europe/Berlin:20261022T093000
DTSTAMP:20260423T052202
CREATED:20260311T132017Z
LAST-MODIFIED:20260311T132017Z
UID:15569-1792657800-1792661400@diekulturmacherin.de
SUMMARY:Egon und der wilde Müll
DESCRIPTION:
URL:https://diekulturmacherin.de/termin/egon-und-der-wilde-muell/
LOCATION:Bempflingen
END:VEVENT
BEGIN:VEVENT
DTSTART;TZID=Europe/Berlin:20261022T090000
DTEND;TZID=Europe/Berlin:20261022T100000
DTSTAMP:20260423T052202
CREATED:20260326T144048Z
LAST-MODIFIED:20260326T144048Z
UID:15715-1792659600-1792663200@diekulturmacherin.de
SUMMARY:Die wilden Kerle
DESCRIPTION:
URL:https://diekulturmacherin.de/termin/die-wilden-kerle-319/
LOCATION:Stutensee
END:VEVENT
BEGIN:VEVENT
DTSTART;TZID=Europe/Berlin:20261022T103000
DTEND;TZID=Europe/Berlin:20261022T113000
DTSTAMP:20260423T052202
CREATED:20260313T135902Z
LAST-MODIFIED:20260313T135902Z
UID:15594-1792665000-1792668600@diekulturmacherin.de
SUMMARY:Musikalische Ritter Rost Lesung
DESCRIPTION:
URL:https://diekulturmacherin.de/termin/musikalische-ritter-rost-lesung-36/
LOCATION:Friedrichshafen
END:VEVENT
BEGIN:VEVENT
DTSTART;TZID=Europe/Berlin:20261022T193000
DTEND;TZID=Europe/Berlin:20261022T203000
DTSTAMP:20260423T052202
CREATED:20251216T114957Z
LAST-MODIFIED:20251216T114957Z
UID:14936-1792697400-1792701000@diekulturmacherin.de
SUMMARY:Camorra
DESCRIPTION:
URL:https://diekulturmacherin.de/termin/camorra/
LOCATION:Alsdorf
END:VEVENT
BEGIN:VEVENT
DTSTART;TZID=Europe/Berlin:20261023T090000
DTEND;TZID=Europe/Berlin:20261023T100000
DTSTAMP:20260423T052202
CREATED:20260305T082834Z
LAST-MODIFIED:20260305T082834Z
UID:15510-1792746000-1792749600@diekulturmacherin.de
SUMMARY:Hedi Hummel
DESCRIPTION:
URL:https://diekulturmacherin.de/termin/hedi-hummel/
LOCATION:Mönsheim
END:VEVENT
END:VCALENDAR