BEGIN:VCALENDAR
VERSION:2.0
PRODID:-//DieKulturMacherin - ECPv6.15.20//NONSGML v1.0//EN
CALSCALE:GREGORIAN
METHOD:PUBLISH
X-WR-CALNAME:DieKulturMacherin
X-ORIGINAL-URL:https://diekulturmacherin.de
X-WR-CALDESC:Veranstaltungen für DieKulturMacherin
REFRESH-INTERVAL;VALUE=DURATION:PT1H
X-Robots-Tag:noindex
X-PUBLISHED-TTL:PT1H
BEGIN:VTIMEZONE
TZID:Europe/Berlin
BEGIN:DAYLIGHT
TZOFFSETFROM:+0100
TZOFFSETTO:+0200
TZNAME:CEST
DTSTART:20250330T010000
END:DAYLIGHT
BEGIN:STANDARD
TZOFFSETFROM:+0200
TZOFFSETTO:+0100
TZNAME:CET
DTSTART:20251026T010000
END:STANDARD
BEGIN:DAYLIGHT
TZOFFSETFROM:+0100
TZOFFSETTO:+0200
TZNAME:CEST
DTSTART:20260329T010000
END:DAYLIGHT
BEGIN:STANDARD
TZOFFSETFROM:+0200
TZOFFSETTO:+0100
TZNAME:CET
DTSTART:20261025T010000
END:STANDARD
BEGIN:DAYLIGHT
TZOFFSETFROM:+0100
TZOFFSETTO:+0200
TZNAME:CEST
DTSTART:20270328T010000
END:DAYLIGHT
BEGIN:STANDARD
TZOFFSETFROM:+0200
TZOFFSETTO:+0100
TZNAME:CET
DTSTART:20271031T010000
END:STANDARD
END:VTIMEZONE
BEGIN:VEVENT
DTSTART;TZID=Europe/Berlin:20260424T090000
DTEND;TZID=Europe/Berlin:20260424T100000
DTSTAMP:20260421T212618
CREATED:20250623T103221Z
LAST-MODIFIED:20250623T103221Z
UID:13909-1777021200-1777024800@diekulturmacherin.de
SUMMARY:Straßentiger
DESCRIPTION:
URL:https://diekulturmacherin.de/termin/strassentiger-21/
LOCATION:Gelnhausen
END:VEVENT
BEGIN:VEVENT
DTSTART;TZID=Europe/Berlin:20260424T090000
DTEND;TZID=Europe/Berlin:20260424T100000
DTSTAMP:20260421T212618
CREATED:20260108T183104Z
LAST-MODIFIED:20260108T183104Z
UID:15010-1777021200-1777024800@diekulturmacherin.de
SUMMARY:Sophie Scholl-Lesung
DESCRIPTION:
URL:https://diekulturmacherin.de/termin/sophie-scholl-lesung-15/
LOCATION:Cuxhaven
END:VEVENT
BEGIN:VEVENT
DTSTART;TZID=Europe/Berlin:20260424T090000
DTEND;TZID=Europe/Berlin:20260424T100000
DTSTAMP:20260421T212618
CREATED:20260226T144750Z
LAST-MODIFIED:20260226T144750Z
UID:15471-1777021200-1777024800@diekulturmacherin.de
SUMMARY:Die wilden Kerle
DESCRIPTION:
URL:https://diekulturmacherin.de/termin/die-wilden-kerle-308/
LOCATION:Würzburg
END:VEVENT
BEGIN:VEVENT
DTSTART;TZID=Europe/Berlin:20260424T100000
DTEND;TZID=Europe/Berlin:20260424T110000
DTSTAMP:20260421T212618
CREATED:20250623T103326Z
LAST-MODIFIED:20250623T103326Z
UID:13912-1777024800-1777028400@diekulturmacherin.de
SUMMARY:Straßentiger - Jagd nach dem Katzengold
DESCRIPTION:
URL:https://diekulturmacherin.de/termin/strassentiger-jagd-nach-dem-katzengold-14/
LOCATION:Gelnhausen
END:VEVENT
BEGIN:VEVENT
DTSTART;TZID=Europe/Berlin:20260424T100000
DTEND;TZID=Europe/Berlin:20260424T110000
DTSTAMP:20260421T212618
CREATED:20260213T130136Z
LAST-MODIFIED:20260213T130136Z
UID:15349-1777024800-1777028400@diekulturmacherin.de
SUMMARY:Strassenstaub - Drogenprävention
DESCRIPTION:
URL:https://diekulturmacherin.de/termin/strassenstaub-drogenpraevention/
LOCATION:Freiburg
END:VEVENT
BEGIN:VEVENT
DTSTART;TZID=Europe/Berlin:20260424T143000
DTEND;TZID=Europe/Berlin:20260424T170000
DTSTAMP:20260421T212618
CREATED:20260202T175458Z
LAST-MODIFIED:20260202T175458Z
UID:15230-1777041000-1777050000@diekulturmacherin.de
SUMMARY:Team Campus Lesung
DESCRIPTION:
URL:https://diekulturmacherin.de/termin/team-campus-lesung/
LOCATION:Haubinda
END:VEVENT
BEGIN:VEVENT
DTSTART;TZID=Europe/Berlin:20260424T150000
DTEND;TZID=Europe/Berlin:20260424T163000
DTSTAMP:20260421T212618
CREATED:20250710T103516Z
LAST-MODIFIED:20250710T103516Z
UID:14038-1777042800-1777048200@diekulturmacherin.de
SUMMARY:Ritter Rost
DESCRIPTION:
URL:https://diekulturmacherin.de/termin/ritter-rost-74/
LOCATION:Dettelbach
END:VEVENT
BEGIN:VEVENT
DTSTART;TZID=Europe/Berlin:20260424T160000
DTEND;TZID=Europe/Berlin:20260424T170000
DTSTAMP:20260421T212618
CREATED:20260115T125506Z
LAST-MODIFIED:20260115T125506Z
UID:15062-1777046400-1777050000@diekulturmacherin.de
SUMMARY:Ritter Rost Lesung
DESCRIPTION:
URL:https://diekulturmacherin.de/termin/ritter-rost-lesung-26/
LOCATION:Bad Rappenau
END:VEVENT
BEGIN:VEVENT
DTSTART;TZID=Europe/Berlin:20260424T193000
DTEND;TZID=Europe/Berlin:20260424T213000
DTSTAMP:20260421T212618
CREATED:20250507T135353Z
LAST-MODIFIED:20250507T135353Z
UID:13587-1777059000-1777066200@diekulturmacherin.de
SUMMARY:Memories - Ein Elvis Abend
DESCRIPTION:
URL:https://diekulturmacherin.de/termin/memories-ein-elvis-abend-8/
LOCATION:Solingen
END:VEVENT
BEGIN:VEVENT
DTSTART;TZID=Europe/Berlin:20260425T103000
DTEND;TZID=Europe/Berlin:20260425T113000
DTSTAMP:20260421T212618
CREATED:20250911T125246Z
LAST-MODIFIED:20250911T125246Z
UID:14294-1777113000-1777116600@diekulturmacherin.de
SUMMARY:Pusten\, Prusten\, Blubbern\, Klappern
DESCRIPTION:
URL:https://diekulturmacherin.de/termin/pusten-prusten-blubbern-klappern-19/
LOCATION:Tuttlingen
END:VEVENT
BEGIN:VEVENT
DTSTART;TZID=Europe/Berlin:20260425T110000
DTEND;TZID=Europe/Berlin:20260425T143000
DTSTAMP:20260421T212618
CREATED:20250918T164058Z
LAST-MODIFIED:20250918T164058Z
UID:14363-1777114800-1777127400@diekulturmacherin.de
SUMMARY:Anni Antenne feiert
DESCRIPTION:
URL:https://diekulturmacherin.de/termin/anni-antenne-feiert-3/
LOCATION:Mötzingen
END:VEVENT
BEGIN:VEVENT
DTSTART;TZID=Europe/Berlin:20260426T150000
DTEND;TZID=Europe/Berlin:20260426T163000
DTSTAMP:20260421T212618
CREATED:20251223T125940Z
LAST-MODIFIED:20251223T125940Z
UID:14975-1777215600-1777221000@diekulturmacherin.de
SUMMARY:Lian\, die Tierdetektivin
DESCRIPTION:
URL:https://diekulturmacherin.de/termin/lian-die-tierdetektivin-2/
LOCATION:Bretten
END:VEVENT
BEGIN:VEVENT
DTSTART;TZID=Europe/Berlin:20260427T080000
DTEND;TZID=Europe/Berlin:20260427T090000
DTSTAMP:20260421T212618
CREATED:20251223T130150Z
LAST-MODIFIED:20251223T130150Z
UID:14977-1777276800-1777280400@diekulturmacherin.de
SUMMARY:Lian\, die Tierdetektivin
DESCRIPTION:
URL:https://diekulturmacherin.de/termin/lian-die-tierdetektivin-3/
LOCATION:Bretten
END:VEVENT
BEGIN:VEVENT
DTSTART;TZID=Europe/Berlin:20260427T103000
DTEND;TZID=Europe/Berlin:20260427T113000
DTSTAMP:20260421T212618
CREATED:20251223T130300Z
LAST-MODIFIED:20251223T130300Z
UID:14979-1777285800-1777289400@diekulturmacherin.de
SUMMARY:Lian\, die Tierdetektivin
DESCRIPTION:
URL:https://diekulturmacherin.de/termin/lian-die-tierdetektivin-4/
LOCATION:Bretten
END:VEVENT
BEGIN:VEVENT
DTSTART;TZID=Europe/Berlin:20260428T080000
DTEND;TZID=Europe/Berlin:20260428T100000
DTSTAMP:20260421T212618
CREATED:20260302T103619Z
LAST-MODIFIED:20260302T120316Z
UID:15477-1777363200-1777370400@diekulturmacherin.de
SUMMARY:Strassenstaub
DESCRIPTION:
URL:https://diekulturmacherin.de/termin/strassenstaub-13/
LOCATION:Forst Lausitz
END:VEVENT
BEGIN:VEVENT
DTSTART;TZID=Europe/Berlin:20260428T090000
DTEND;TZID=Europe/Berlin:20260428T100000
DTSTAMP:20260421T212618
CREATED:20260226T102007Z
LAST-MODIFIED:20260226T102007Z
UID:15451-1777366800-1777370400@diekulturmacherin.de
SUMMARY:Allerhand Getrixe
DESCRIPTION:
URL:https://diekulturmacherin.de/termin/allerhand-getrixe-63/
LOCATION:Grafenau
END:VEVENT
BEGIN:VEVENT
DTSTART;TZID=Europe/Berlin:20260428T090000
DTEND;TZID=Europe/Berlin:20260428T100000
DTSTAMP:20260421T212618
CREATED:20260226T102455Z
LAST-MODIFIED:20260226T102455Z
UID:15456-1777366800-1777370400@diekulturmacherin.de
SUMMARY:Allerhand Getrixe
DESCRIPTION:
URL:https://diekulturmacherin.de/termin/allerhand-getrixe-65/
LOCATION:Grafenau
END:VEVENT
BEGIN:VEVENT
DTSTART;TZID=Europe/Berlin:20260428T100000
DTEND;TZID=Europe/Berlin:20260428T110000
DTSTAMP:20260421T212618
CREATED:20260205T150929Z
LAST-MODIFIED:20260205T150929Z
UID:15294-1777370400-1777374000@diekulturmacherin.de
SUMMARY:Prinzessin Alleswill und der kluge Frosch
DESCRIPTION:
URL:https://diekulturmacherin.de/termin/prinzessin-alleswill-und-der-kluge-frosch-24/
LOCATION:Magstadt
END:VEVENT
BEGIN:VEVENT
DTSTART;TZID=Europe/Berlin:20260428T100000
DTEND;TZID=Europe/Berlin:20260428T110000
DTSTAMP:20260421T212618
CREATED:20260226T102117Z
LAST-MODIFIED:20260226T102117Z
UID:15454-1777370400-1777374000@diekulturmacherin.de
SUMMARY:Allerhand Getrixe
DESCRIPTION:
URL:https://diekulturmacherin.de/termin/allerhand-getrixe-64/
LOCATION:Grafenau
END:VEVENT
BEGIN:VEVENT
DTSTART;TZID=Europe/Berlin:20260428T160000
DTEND;TZID=Europe/Berlin:20260428T170000
DTSTAMP:20260421T212618
CREATED:20251104T160236Z
LAST-MODIFIED:20251104T160236Z
UID:14672-1777392000-1777395600@diekulturmacherin.de
SUMMARY:Egon Eichhorn und der wilde Müll im Wald
DESCRIPTION:
URL:https://diekulturmacherin.de/termin/egon-eichhorn-und-der-wilde-muell-im-wald/
LOCATION:Korschenbroich
END:VEVENT
BEGIN:VEVENT
DTSTART;TZID=Europe/Berlin:20260428T193000
DTEND;TZID=Europe/Berlin:20260428T203000
DTSTAMP:20260421T212618
CREATED:20251031T151433Z
LAST-MODIFIED:20251031T151433Z
UID:14651-1777404600-1777408200@diekulturmacherin.de
SUMMARY:Unter Kommissaren - Fiktion trifft Realität
DESCRIPTION:
URL:https://diekulturmacherin.de/termin/unter-kommissaren-fiktion-trifft-realitaet-12/
LOCATION:Garching
END:VEVENT
BEGIN:VEVENT
DTSTART;TZID=Europe/Berlin:20260428T193000
DTEND;TZID=Europe/Berlin:20260428T210000
DTSTAMP:20260421T212618
CREATED:20250521T093809Z
LAST-MODIFIED:20250521T093809Z
UID:13661-1777404600-1777410000@diekulturmacherin.de
SUMMARY:Tennessee und Alabama
DESCRIPTION:
URL:https://diekulturmacherin.de/termin/tennessee-und-alabama-11/
LOCATION:Teterow
END:VEVENT
BEGIN:VEVENT
DTSTART;TZID=Europe/Berlin:20260429T093000
DTEND;TZID=Europe/Berlin:20260429T103000
DTSTAMP:20260421T212618
CREATED:20260326T172532Z
LAST-MODIFIED:20260326T172532Z
UID:15722-1777455000-1777458600@diekulturmacherin.de
SUMMARY:Ritter Rost
DESCRIPTION:
URL:https://diekulturmacherin.de/termin/ritter-rost-81/
LOCATION:Berlin
END:VEVENT
BEGIN:VEVENT
DTSTART;TZID=Europe/Berlin:20260429T100000
DTEND;TZID=Europe/Berlin:20260429T110000
DTSTAMP:20260421T212618
CREATED:20251218T155217Z
LAST-MODIFIED:20251218T155217Z
UID:14960-1777456800-1777460400@diekulturmacherin.de
SUMMARY:Team Campus - passend zur Fußball WM
DESCRIPTION:
URL:https://diekulturmacherin.de/termin/team-campus-passend-zur-fussball-wm/
LOCATION:Vaihingen a.d. Enz
END:VEVENT
BEGIN:VEVENT
DTSTART;TZID=Europe/Berlin:20260429T100000
DTEND;TZID=Europe/Berlin:20260429T110000
DTSTAMP:20260421T212618
CREATED:20260204T105300Z
LAST-MODIFIED:20260204T105300Z
UID:15259-1777456800-1777460400@diekulturmacherin.de
SUMMARY:Hier kommt die Körperpolizei
DESCRIPTION:
URL:https://diekulturmacherin.de/termin/hier-kommt-die-koerperpolizei-12/
LOCATION:Ochsenfurt
END:VEVENT
BEGIN:VEVENT
DTSTART;TZID=Europe/Berlin:20260429T100000
DTEND;TZID=Europe/Berlin:20260429T110000
DTSTAMP:20260421T212618
CREATED:20260226T102556Z
LAST-MODIFIED:20260226T102556Z
UID:15458-1777456800-1777460400@diekulturmacherin.de
SUMMARY:Allerhand Getrixe
DESCRIPTION:
URL:https://diekulturmacherin.de/termin/allerhand-getrixe-66/
LOCATION:Grafenau
END:VEVENT
BEGIN:VEVENT
DTSTART;TZID=Europe/Berlin:20260504T193000
DTEND;TZID=Europe/Berlin:20260504T203000
DTSTAMP:20260421T212618
CREATED:20260401T134954Z
LAST-MODIFIED:20260401T134954Z
UID:15771-1777923000-1777926600@diekulturmacherin.de
SUMMARY:Doch noch ein neuer Tag
DESCRIPTION:
URL:https://diekulturmacherin.de/termin/doch-noch-ein-neuer-tag-6/
LOCATION:Bremervörde\, Germany
END:VEVENT
BEGIN:VEVENT
DTSTART;TZID=Europe/Berlin:20260505T093000
DTEND;TZID=Europe/Berlin:20260505T103000
DTSTAMP:20260421T212618
CREATED:20251110T102225Z
LAST-MODIFIED:20251110T102225Z
UID:14701-1777973400-1777977000@diekulturmacherin.de
SUMMARY:Arvil
DESCRIPTION:
URL:https://diekulturmacherin.de/termin/arvil/
LOCATION:Lohne
END:VEVENT
BEGIN:VEVENT
DTSTART;TZID=Europe/Berlin:20260505T160000
DTEND;TZID=Europe/Berlin:20260505T170000
DTSTAMP:20260421T212618
CREATED:20251125T115309Z
LAST-MODIFIED:20251125T115309Z
UID:14771-1777996800-1778000400@diekulturmacherin.de
SUMMARY:Anni ist anders
DESCRIPTION:
URL:https://diekulturmacherin.de/termin/anni-ist-anders-6/
LOCATION:Weilheim
END:VEVENT
BEGIN:VEVENT
DTSTART;TZID=Europe/Berlin:20260505T193000
DTEND;TZID=Europe/Berlin:20260505T210000
DTSTAMP:20260421T212618
CREATED:20260401T135057Z
LAST-MODIFIED:20260401T135057Z
UID:15773-1778009400-1778014800@diekulturmacherin.de
SUMMARY:Doch noch ein neuer Tag
DESCRIPTION:
URL:https://diekulturmacherin.de/termin/doch-noch-ein-neuer-tag-7/
LOCATION:Rotenburg
END:VEVENT
END:VCALENDAR