BEGIN:VCALENDAR
VERSION:2.0
PRODID:-//DieKulturMacherin - ECPv6.15.20//NONSGML v1.0//EN
CALSCALE:GREGORIAN
METHOD:PUBLISH
X-WR-CALNAME:DieKulturMacherin
X-ORIGINAL-URL:https://diekulturmacherin.de
X-WR-CALDESC:Veranstaltungen für DieKulturMacherin
REFRESH-INTERVAL;VALUE=DURATION:PT1H
X-Robots-Tag:noindex
X-PUBLISHED-TTL:PT1H
BEGIN:VTIMEZONE
TZID:Europe/Berlin
BEGIN:DAYLIGHT
TZOFFSETFROM:+0100
TZOFFSETTO:+0200
TZNAME:CEST
DTSTART:20250330T010000
END:DAYLIGHT
BEGIN:STANDARD
TZOFFSETFROM:+0200
TZOFFSETTO:+0100
TZNAME:CET
DTSTART:20251026T010000
END:STANDARD
BEGIN:DAYLIGHT
TZOFFSETFROM:+0100
TZOFFSETTO:+0200
TZNAME:CEST
DTSTART:20260329T010000
END:DAYLIGHT
BEGIN:STANDARD
TZOFFSETFROM:+0200
TZOFFSETTO:+0100
TZNAME:CET
DTSTART:20261025T010000
END:STANDARD
BEGIN:DAYLIGHT
TZOFFSETFROM:+0100
TZOFFSETTO:+0200
TZNAME:CEST
DTSTART:20270328T010000
END:DAYLIGHT
BEGIN:STANDARD
TZOFFSETFROM:+0200
TZOFFSETTO:+0100
TZNAME:CET
DTSTART:20271031T010000
END:STANDARD
END:VTIMEZONE
BEGIN:VEVENT
DTSTART;TZID=Europe/Berlin:20260925T193000
DTEND;TZID=Europe/Berlin:20260925T203000
DTSTAMP:20260422T230050
CREATED:20250611T095736Z
LAST-MODIFIED:20250611T095736Z
UID:13786-1790364600-1790368200@diekulturmacherin.de
SUMMARY:Fiktion trifft Realität.
DESCRIPTION:
URL:https://diekulturmacherin.de/termin/fiktion-trifft-realitaet/
LOCATION:WAldshut-Tiengen
END:VEVENT
BEGIN:VEVENT
DTSTART;TZID=Europe/Berlin:20260925T193000
DTEND;TZID=Europe/Berlin:20260925T213000
DTSTAMP:20260422T230050
CREATED:20250611T080918Z
LAST-MODIFIED:20250611T080918Z
UID:13782-1790364600-1790371800@diekulturmacherin.de
SUMMARY:Jung - (Ü 50)
DESCRIPTION:
URL:https://diekulturmacherin.de/termin/jung-ue-50/
LOCATION:Hagen
END:VEVENT
BEGIN:VEVENT
DTSTART;TZID=Europe/Berlin:20260926T193000
DTEND;TZID=Europe/Berlin:20260926T203000
DTSTAMP:20260422T230050
CREATED:20251118T091229Z
LAST-MODIFIED:20251118T091229Z
UID:14722-1790451000-1790454600@diekulturmacherin.de
SUMMARY:Nachtgedanken - LeseKonzert
DESCRIPTION:
URL:https://diekulturmacherin.de/termin/nachtgedanken-lesekonzert-7/
LOCATION:Bielefeld
END:VEVENT
BEGIN:VEVENT
DTSTART;TZID=Europe/Berlin:20260926T193000
DTEND;TZID=Europe/Berlin:20260926T213000
DTSTAMP:20260422T230050
CREATED:20250611T081021Z
LAST-MODIFIED:20250611T081021Z
UID:13784-1790451000-1790458200@diekulturmacherin.de
SUMMARY:Jung - (Ü 50)
DESCRIPTION:
URL:https://diekulturmacherin.de/termin/jung-ue-50-2/
LOCATION:Henstedt-Ulzburg
END:VEVENT
BEGIN:VEVENT
DTSTART;TZID=Europe/Berlin:20260928T100000
DTEND;TZID=Europe/Berlin:20260928T110000
DTSTAMP:20260422T230050
CREATED:20260303T173706Z
LAST-MODIFIED:20260303T173706Z
UID:15497-1790589600-1790593200@diekulturmacherin.de
SUMMARY:Schüsse in der Stille
DESCRIPTION:
URL:https://diekulturmacherin.de/termin/schuesse-in-der-stille-21/
LOCATION:Leipzig
END:VEVENT
BEGIN:VEVENT
DTSTART;TZID=Europe/Berlin:20260929T190000
DTEND;TZID=Europe/Berlin:20260929T203000
DTSTAMP:20260422T230050
CREATED:20260331T115214Z
LAST-MODIFIED:20260331T115214Z
UID:15766-1790708400-1790713800@diekulturmacherin.de
SUMMARY:Schüsse in der Stille
DESCRIPTION:
URL:https://diekulturmacherin.de/termin/schuesse-in-der-stille-33/
LOCATION:Oberes Vogtland
END:VEVENT
BEGIN:VEVENT
DTSTART;TZID=Europe/Berlin:20260930T100000
DTEND;TZID=Europe/Berlin:20260930T110000
DTSTAMP:20260422T230050
CREATED:20260303T173859Z
LAST-MODIFIED:20260303T173859Z
UID:15499-1790762400-1790766000@diekulturmacherin.de
SUMMARY:Schüsse in der Stille
DESCRIPTION:
URL:https://diekulturmacherin.de/termin/schuesse-in-der-stille-22/
LOCATION:Plauen
END:VEVENT
BEGIN:VEVENT
DTSTART;TZID=Europe/Berlin:20260930T143000
DTEND;TZID=Europe/Berlin:20260930T153000
DTSTAMP:20260422T230050
CREATED:20260211T110705Z
LAST-MODIFIED:20260211T110705Z
UID:15334-1790778600-1790782200@diekulturmacherin.de
SUMMARY:Allerhand Getrixe
DESCRIPTION:
URL:https://diekulturmacherin.de/termin/allerhand-getrixe-62/
LOCATION:Böhmenkirch
END:VEVENT
BEGIN:VEVENT
DTSTART;TZID=Europe/Berlin:20261001T110000
DTEND;TZID=Europe/Berlin:20261001T123000
DTSTAMP:20260422T230050
CREATED:20260309T175521Z
LAST-MODIFIED:20260309T175521Z
UID:15554-1790852400-1790857800@diekulturmacherin.de
SUMMARY:Schüsse in der Stille
DESCRIPTION:
URL:https://diekulturmacherin.de/termin/schuesse-in-der-stille-26/
LOCATION:Delitzsch
END:VEVENT
BEGIN:VEVENT
DTSTART;TZID=Europe/Berlin:20261001T153000
DTEND;TZID=Europe/Berlin:20261001T170000
DTSTAMP:20260422T230050
CREATED:20260211T120522Z
LAST-MODIFIED:20260211T120522Z
UID:15341-1790868600-1790874000@diekulturmacherin.de
SUMMARY:Eselsohren - ein wortreiches Getrixe
DESCRIPTION:
URL:https://diekulturmacherin.de/termin/eselsohren-ein-wortreiches-getrixe-60/
LOCATION:Straubenhardt
END:VEVENT
BEGIN:VEVENT
DTSTART;TZID=Europe/Berlin:20261001T193000
DTEND;TZID=Europe/Berlin:20261001T210000
DTSTAMP:20260422T230050
CREATED:20260410T075156Z
LAST-MODIFIED:20260410T075156Z
UID:15806-1790883000-1790888400@diekulturmacherin.de
SUMMARY:Unter Kommissaren - Fiktion trifft Realität
DESCRIPTION:
URL:https://diekulturmacherin.de/termin/unter-kommissaren-fiktion-trifft-realitaet-15/
LOCATION:Limburgerhof
END:VEVENT
BEGIN:VEVENT
DTSTART;TZID=Europe/Berlin:20261002T090000
DTEND;TZID=Europe/Berlin:20261002T100000
DTSTAMP:20260422T230050
CREATED:20250725T101813Z
LAST-MODIFIED:20250725T101813Z
UID:14121-1790931600-1790935200@diekulturmacherin.de
SUMMARY:Kinder des 20. Juli
DESCRIPTION:
URL:https://diekulturmacherin.de/termin/kinder-des-20-juli-2/
LOCATION:Feuchtwangen
END:VEVENT
BEGIN:VEVENT
DTSTART;TZID=Europe/Berlin:20261002T160000
DTEND;TZID=Europe/Berlin:20261002T170000
DTSTAMP:20260422T230051
CREATED:20260115T125011Z
LAST-MODIFIED:20260115T125011Z
UID:15060-1790956800-1790960400@diekulturmacherin.de
SUMMARY:Prinzessin Alleswill und der kluge Frosch
DESCRIPTION:
URL:https://diekulturmacherin.de/termin/prinzessin-alleswill-und-der-kluge-frosch-17/
LOCATION:Bad Rappenau
END:VEVENT
BEGIN:VEVENT
DTSTART;TZID=Europe/Berlin:20261002T160000
DTEND;TZID=Europe/Berlin:20261002T170000
DTSTAMP:20260422T230051
CREATED:20260121T140759Z
LAST-MODIFIED:20260121T140759Z
UID:15097-1790956800-1790960400@diekulturmacherin.de
SUMMARY:Eselsohren - ein wortreiches Getrixe
DESCRIPTION:
URL:https://diekulturmacherin.de/termin/eselsohren-ein-wortreiches-getrixe-59/
LOCATION:Meckenbeuren
END:VEVENT
BEGIN:VEVENT
DTSTART;TZID=Europe/Berlin:20261002T190000
DTEND;TZID=Europe/Berlin:20261002T203000
DTSTAMP:20260422T230051
CREATED:20260318T131046Z
LAST-MODIFIED:20260318T131046Z
UID:15635-1790967600-1790973000@diekulturmacherin.de
SUMMARY:Mehr Chaos\, mehr Liebe !
DESCRIPTION:
URL:https://diekulturmacherin.de/termin/mehr-chaos-mehr-liebe-8/
LOCATION:Bad Kreuznach
END:VEVENT
BEGIN:VEVENT
DTSTART;TZID=Europe/Berlin:20261002T193000
DTEND;TZID=Europe/Berlin:20261002T210000
DTSTAMP:20260422T230051
CREATED:20260317T142350Z
LAST-MODIFIED:20260317T142350Z
UID:15617-1790969400-1790974800@diekulturmacherin.de
SUMMARY:Fiktion trifft Realität
DESCRIPTION:
URL:https://diekulturmacherin.de/termin/fiktion-trifft-realitaet-6/
LOCATION:Ellerau
END:VEVENT
BEGIN:VEVENT
DTSTART;TZID=Europe/Berlin:20261002T193000
DTEND;TZID=Europe/Berlin:20261002T213000
DTSTAMP:20260422T230051
CREATED:20250725T101917Z
LAST-MODIFIED:20250725T101917Z
UID:14123-1790969400-1790976600@diekulturmacherin.de
SUMMARY:Wir Kinder des 20. Juli
DESCRIPTION:
URL:https://diekulturmacherin.de/termin/wir-kinder-des-20-juli-6/
LOCATION:Feuchtwangen
END:VEVENT
BEGIN:VEVENT
DTSTART;TZID=Europe/Berlin:20261004T190000
DTEND;TZID=Europe/Berlin:20261004T203000
DTSTAMP:20260422T230051
CREATED:20250704T090008Z
LAST-MODIFIED:20250704T090008Z
UID:13994-1791140400-1791145800@diekulturmacherin.de
SUMMARY:Coco Chanel Lesung
DESCRIPTION:
URL:https://diekulturmacherin.de/termin/coco-chanel-lesung-11/
LOCATION:Pforzheim
END:VEVENT
BEGIN:VEVENT
DTSTART;TZID=Europe/Berlin:20261005T160000
DTEND;TZID=Europe/Berlin:20261005T170000
DTSTAMP:20260422T230051
CREATED:20260204T120105Z
LAST-MODIFIED:20260204T120105Z
UID:15266-1791216000-1791219600@diekulturmacherin.de
SUMMARY:Balduin bleibt grün
DESCRIPTION:
URL:https://diekulturmacherin.de/termin/balduin-bleibt-gruen-60/
LOCATION:Bochum
END:VEVENT
BEGIN:VEVENT
DTSTART;TZID=Europe/Berlin:20261006T100000
DTEND;TZID=Europe/Berlin:20261006T110000
DTSTAMP:20260422T230051
CREATED:20260224T133138Z
LAST-MODIFIED:20260224T133138Z
UID:15435-1791280800-1791284400@diekulturmacherin.de
SUMMARY:Schüsse in der Stille
DESCRIPTION:
URL:https://diekulturmacherin.de/termin/schuesse-in-der-stille-17/
LOCATION:Annaberg-Buchholz
END:VEVENT
BEGIN:VEVENT
DTSTART;TZID=Europe/Berlin:20261006T160000
DTEND;TZID=Europe/Berlin:20261006T170000
DTSTAMP:20260422T230051
CREATED:20260204T120429Z
LAST-MODIFIED:20260204T120429Z
UID:15268-1791302400-1791306000@diekulturmacherin.de
SUMMARY:Balduin wirds zu bunt
DESCRIPTION:
URL:https://diekulturmacherin.de/termin/balduin-wirds-zu-bunt-18/
LOCATION:Bochum
END:VEVENT
BEGIN:VEVENT
DTSTART;TZID=Europe/Berlin:20261006T163000
DTEND;TZID=Europe/Berlin:20261006T170000
DTSTAMP:20260422T230051
CREATED:20260217T113659Z
LAST-MODIFIED:20260217T113659Z
UID:15368-1791304200-1791306000@diekulturmacherin.de
SUMMARY:Die wilden Kerle
DESCRIPTION:
URL:https://diekulturmacherin.de/termin/die-wilden-kerle-303/
LOCATION:Burg Storkow
END:VEVENT
BEGIN:VEVENT
DTSTART;TZID=Europe/Berlin:20261007T090000
DTEND;TZID=Europe/Berlin:20261007T100000
DTSTAMP:20260422T230051
CREATED:20260217T113829Z
LAST-MODIFIED:20260217T113829Z
UID:15371-1791363600-1791367200@diekulturmacherin.de
SUMMARY:Kleines ABC gegen Stress
DESCRIPTION:
URL:https://diekulturmacherin.de/termin/kleines-abc-gegen-stress-29/
LOCATION:Burg Storkow
END:VEVENT
BEGIN:VEVENT
DTSTART;TZID=Europe/Berlin:20261007T090000
DTEND;TZID=Europe/Berlin:20261007T100000
DTSTAMP:20260422T230051
CREATED:20260323T123855Z
LAST-MODIFIED:20260323T124054Z
UID:15670-1791363600-1791367200@diekulturmacherin.de
SUMMARY:Strassenstaub
DESCRIPTION:
URL:https://diekulturmacherin.de/termin/strassenstaub-16/
LOCATION:Hagen
END:VEVENT
BEGIN:VEVENT
DTSTART;TZID=Europe/Berlin:20261007T100000
DTEND;TZID=Europe/Berlin:20261007T110000
DTSTAMP:20260422T230051
CREATED:20260224T124937Z
LAST-MODIFIED:20260224T124937Z
UID:15430-1791367200-1791370800@diekulturmacherin.de
SUMMARY:Lian\, die Tierdetektivin
DESCRIPTION:
URL:https://diekulturmacherin.de/termin/lian-die-tierdetektivin-5/
LOCATION:Eberswalde
END:VEVENT
BEGIN:VEVENT
DTSTART;TZID=Europe/Berlin:20261007T110000
DTEND;TZID=Europe/Berlin:20261007T120000
DTSTAMP:20260422T230051
CREATED:20260323T124308Z
LAST-MODIFIED:20260323T124308Z
UID:15672-1791370800-1791374400@diekulturmacherin.de
SUMMARY:Strassenstaub
DESCRIPTION:
URL:https://diekulturmacherin.de/termin/strassenstaub-17/
LOCATION:Hagen
END:VEVENT
BEGIN:VEVENT
DTSTART;TZID=Europe/Berlin:20261007T133000
DTEND;TZID=Europe/Berlin:20261007T143000
DTSTAMP:20260422T230051
CREATED:20260217T114048Z
LAST-MODIFIED:20260217T114048Z
UID:15373-1791379800-1791383400@diekulturmacherin.de
SUMMARY:Kleines ABC gegen Stress
DESCRIPTION:
URL:https://diekulturmacherin.de/termin/kleines-abc-gegen-stress-30/
LOCATION:Burg Storkow
END:VEVENT
BEGIN:VEVENT
DTSTART;TZID=Europe/Berlin:20261007T140000
DTEND;TZID=Europe/Berlin:20261007T150000
DTSTAMP:20260422T230051
CREATED:20260303T134236Z
LAST-MODIFIED:20260303T134236Z
UID:15493-1791381600-1791385200@diekulturmacherin.de
SUMMARY:Eselsohren
DESCRIPTION:
URL:https://diekulturmacherin.de/termin/eselsohren-15/
LOCATION:Schrobenhausen
END:VEVENT
BEGIN:VEVENT
DTSTART;TZID=Europe/Berlin:20261007T160000
DTEND;TZID=Europe/Berlin:20261007T170000
DTSTAMP:20260422T230051
CREATED:20260224T125241Z
LAST-MODIFIED:20260224T125241Z
UID:15433-1791388800-1791392400@diekulturmacherin.de
SUMMARY:Lian\, die Tierdetektivin
DESCRIPTION:
URL:https://diekulturmacherin.de/termin/lian-die-tierdetektivin-6/
LOCATION:Eberswalde
END:VEVENT
BEGIN:VEVENT
DTSTART;TZID=Europe/Berlin:20261008T110000
DTEND;TZID=Europe/Berlin:20261008T120000
DTSTAMP:20260422T230051
CREATED:20260210T105802Z
LAST-MODIFIED:20260210T105802Z
UID:15322-1791457200-1791460800@diekulturmacherin.de
SUMMARY:Sophie Scholl Lesung
DESCRIPTION:
URL:https://diekulturmacherin.de/termin/sophie-scholl-lesung-16/
LOCATION:Weissach im Tal
END:VEVENT
END:VCALENDAR