BEGIN:VCALENDAR
VERSION:2.0
PRODID:-//DieKulturMacherin - ECPv6.15.20//NONSGML v1.0//EN
CALSCALE:GREGORIAN
METHOD:PUBLISH
X-ORIGINAL-URL:https://diekulturmacherin.de
X-WR-CALDESC:Veranstaltungen für DieKulturMacherin
REFRESH-INTERVAL;VALUE=DURATION:PT1H
X-Robots-Tag:noindex
X-PUBLISHED-TTL:PT1H
BEGIN:VTIMEZONE
TZID:Europe/Berlin
BEGIN:DAYLIGHT
TZOFFSETFROM:+0100
TZOFFSETTO:+0200
TZNAME:CEST
DTSTART:20250330T010000
END:DAYLIGHT
BEGIN:STANDARD
TZOFFSETFROM:+0200
TZOFFSETTO:+0100
TZNAME:CET
DTSTART:20251026T010000
END:STANDARD
BEGIN:DAYLIGHT
TZOFFSETFROM:+0100
TZOFFSETTO:+0200
TZNAME:CEST
DTSTART:20260329T010000
END:DAYLIGHT
BEGIN:STANDARD
TZOFFSETFROM:+0200
TZOFFSETTO:+0100
TZNAME:CET
DTSTART:20261025T010000
END:STANDARD
BEGIN:DAYLIGHT
TZOFFSETFROM:+0100
TZOFFSETTO:+0200
TZNAME:CEST
DTSTART:20270328T010000
END:DAYLIGHT
BEGIN:STANDARD
TZOFFSETFROM:+0200
TZOFFSETTO:+0100
TZNAME:CET
DTSTART:20271031T010000
END:STANDARD
END:VTIMEZONE
BEGIN:VEVENT
DTSTART;TZID=Europe/Berlin:20260713T100000
DTEND;TZID=Europe/Berlin:20260713T110000
DTSTAMP:20260422T160925
CREATED:20260330T163701Z
LAST-MODIFIED:20260330T163701Z
UID:15753-1783936800-1783940400@diekulturmacherin.de
SUMMARY:Fantomaus - Plötzlich Superheld
DESCRIPTION:
URL:https://diekulturmacherin.de/termin/fantomaus-ploetzlich-superheld-11/
LOCATION:Rottenburg
END:VEVENT
BEGIN:VEVENT
DTSTART;TZID=Europe/Berlin:20260714T100000
DTEND;TZID=Europe/Berlin:20260714T110000
DTSTAMP:20260422T160925
CREATED:20260330T163802Z
LAST-MODIFIED:20260330T163802Z
UID:15755-1784023200-1784026800@diekulturmacherin.de
SUMMARY:Fantomaus - Plötzlich Superheld
DESCRIPTION:
URL:https://diekulturmacherin.de/termin/fantomaus-ploetzlich-superheld-12/
LOCATION:Laupheim
END:VEVENT
BEGIN:VEVENT
DTSTART;TZID=Europe/Berlin:20260715T093000
DTEND;TZID=Europe/Berlin:20260715T103000
DTSTAMP:20260422T160925
CREATED:20251104T162402Z
LAST-MODIFIED:20251104T162402Z
UID:14674-1784107800-1784111400@diekulturmacherin.de
SUMMARY:Straßentiger
DESCRIPTION:
URL:https://diekulturmacherin.de/termin/strassentiger-26/
LOCATION:München
END:VEVENT
BEGIN:VEVENT
DTSTART;TZID=Europe/Berlin:20260715T100000
DTEND;TZID=Europe/Berlin:20260715T110000
DTSTAMP:20260422T160925
CREATED:20260330T164016Z
LAST-MODIFIED:20260330T164016Z
UID:15757-1784109600-1784113200@diekulturmacherin.de
SUMMARY:Fantomaus - Plötzlich Superheld
DESCRIPTION:
URL:https://diekulturmacherin.de/termin/fantomaus-ploetzlich-superheld-13/
LOCATION:Dettingen
END:VEVENT
BEGIN:VEVENT
DTSTART;TZID=Europe/Berlin:20260715T130000
DTEND;TZID=Europe/Berlin:20260715T140000
DTSTAMP:20260422T160925
CREATED:20260330T164206Z
LAST-MODIFIED:20260330T164206Z
UID:15759-1784120400-1784124000@diekulturmacherin.de
SUMMARY:Fantomaus - Plötzlich Superheld
DESCRIPTION:
URL:https://diekulturmacherin.de/termin/fantomaus-ploetzlich-superheld-14/
LOCATION:Dettingen
END:VEVENT
BEGIN:VEVENT
DTSTART;TZID=Europe/Berlin:20260716T100000
DTEND;TZID=Europe/Berlin:20260716T110000
DTSTAMP:20260422T160925
CREATED:20260330T164257Z
LAST-MODIFIED:20260330T164257Z
UID:15761-1784196000-1784199600@diekulturmacherin.de
SUMMARY:Fantomaus - Plötzlich Superheld
DESCRIPTION:
URL:https://diekulturmacherin.de/termin/fantomaus-ploetzlich-superheld-15/
LOCATION:Eningen
END:VEVENT
BEGIN:VEVENT
DTSTART;TZID=Europe/Berlin:20260716T190000
DTEND;TZID=Europe/Berlin:20260716T200000
DTSTAMP:20260422T160925
CREATED:20260109T120109Z
LAST-MODIFIED:20260109T120109Z
UID:15018-1784228400-1784232000@diekulturmacherin.de
SUMMARY:Raus aus dem Hamsterrad
DESCRIPTION:
URL:https://diekulturmacherin.de/termin/raus-aus-dem-hamsterrad-17/
LOCATION:Pforzheim
END:VEVENT
BEGIN:VEVENT
DTSTART;TZID=Europe/Berlin:20260717T100000
DTEND;TZID=Europe/Berlin:20260717T110000
DTSTAMP:20260422T160925
CREATED:20260330T164411Z
LAST-MODIFIED:20260330T164411Z
UID:15763-1784282400-1784286000@diekulturmacherin.de
SUMMARY:Fantomaus - Plötzlich Superheld
DESCRIPTION:
URL:https://diekulturmacherin.de/termin/fantomaus-ploetzlich-superheld-16/
LOCATION:Meckenbeuren
END:VEVENT
BEGIN:VEVENT
DTSTART;TZID=Europe/Berlin:20260717T180000
DTEND;TZID=Europe/Berlin:20260717T190000
DTSTAMP:20260422T160926
CREATED:20260309T164455Z
LAST-MODIFIED:20260309T164455Z
UID:15544-1784311200-1784314800@diekulturmacherin.de
SUMMARY:Willkommen bei den Friedlaenders
DESCRIPTION:
URL:https://diekulturmacherin.de/termin/willkommen-bei-den-friedlaenders/
LOCATION:Brandenburg
END:VEVENT
BEGIN:VEVENT
DTSTART;TZID=Europe/Berlin:20260720T103000
DTEND;TZID=Europe/Berlin:20260720T113000
DTSTAMP:20260422T160926
CREATED:20260122T141335Z
LAST-MODIFIED:20260122T141335Z
UID:15107-1784543400-1784547000@diekulturmacherin.de
SUMMARY:Prinzessin Alleswill und der kluge Frosch
DESCRIPTION:
URL:https://diekulturmacherin.de/termin/prinzessin-alleswill-und-der-kluge-frosch-20/
LOCATION:Borken
END:VEVENT
BEGIN:VEVENT
DTSTART;TZID=Europe/Berlin:20260720T143000
DTEND;TZID=Europe/Berlin:20260720T153000
DTSTAMP:20260422T160926
CREATED:20260122T143244Z
LAST-MODIFIED:20260122T143244Z
UID:15110-1784557800-1784561400@diekulturmacherin.de
SUMMARY:Prinzessin Alleswill und der kluge Frosch
DESCRIPTION:
URL:https://diekulturmacherin.de/termin/prinzessin-alleswill-und-der-kluge-frosch-21/
LOCATION:Gescher
END:VEVENT
BEGIN:VEVENT
DTSTART;TZID=Europe/Berlin:20260721T100000
DTEND;TZID=Europe/Berlin:20260721T110000
DTSTAMP:20260422T160926
CREATED:20260122T143456Z
LAST-MODIFIED:20260122T143456Z
UID:15112-1784628000-1784631600@diekulturmacherin.de
SUMMARY:Prinzessin Alleswill und der kluge Frosch
DESCRIPTION:
URL:https://diekulturmacherin.de/termin/prinzessin-alleswill-und-der-kluge-frosch-22/
LOCATION:Rhede
END:VEVENT
BEGIN:VEVENT
DTSTART;TZID=Europe/Berlin:20260721T100000
DTEND;TZID=Europe/Berlin:20260721T110000
DTSTAMP:20260422T160926
CREATED:20260127T122804Z
LAST-MODIFIED:20260127T122804Z
UID:15170-1784628000-1784631600@diekulturmacherin.de
SUMMARY:Egon Eichhorn und der wilde Müll im Wald
DESCRIPTION:
URL:https://diekulturmacherin.de/termin/egon-eichhorn-und-der-wilde-muell-im-wald-5/
LOCATION:Königsfeld
END:VEVENT
BEGIN:VEVENT
DTSTART;TZID=Europe/Berlin:20260721T103000
DTEND;TZID=Europe/Berlin:20260721T120000
DTSTAMP:20260422T160926
CREATED:20251218T151726Z
LAST-MODIFIED:20251218T151726Z
UID:14958-1784629800-1784635200@diekulturmacherin.de
SUMMARY:Fantomaus - Plötzlich Superheld Duo Lesung
DESCRIPTION:
URL:https://diekulturmacherin.de/termin/fantomaus-ploetzlich-superheld-duo-lesung/
LOCATION:Pritzwalk
END:VEVENT
BEGIN:VEVENT
DTSTART;TZID=Europe/Berlin:20260721T143000
DTEND;TZID=Europe/Berlin:20260721T163000
DTSTAMP:20260422T160926
CREATED:20260122T143747Z
LAST-MODIFIED:20260122T143747Z
UID:15115-1784644200-1784651400@diekulturmacherin.de
SUMMARY:Prinzessin Alleswill und der kluge Frosch
DESCRIPTION:
URL:https://diekulturmacherin.de/termin/prinzessin-alleswill-und-der-kluge-frosch-23/
LOCATION:Ahaus
END:VEVENT
BEGIN:VEVENT
DTSTART;TZID=Europe/Berlin:20260722T100000
DTEND;TZID=Europe/Berlin:20260722T110000
DTSTAMP:20260422T160926
CREATED:20251006T110849Z
LAST-MODIFIED:20251006T110849Z
UID:14467-1784714400-1784718000@diekulturmacherin.de
SUMMARY:Wir Kinder des 20. Juli
DESCRIPTION:
URL:https://diekulturmacherin.de/termin/wir-kinder-des-20-juli-10/
LOCATION:Penzberg
END:VEVENT
BEGIN:VEVENT
DTSTART;TZID=Europe/Berlin:20260722T100000
DTEND;TZID=Europe/Berlin:20260722T110000
DTSTAMP:20260422T160926
CREATED:20260122T144011Z
LAST-MODIFIED:20260122T144011Z
UID:15117-1784714400-1784718000@diekulturmacherin.de
SUMMARY:Prinzessin Alleswill
DESCRIPTION:
URL:https://diekulturmacherin.de/termin/prinzessin-alleswill-10/
LOCATION:Vreden
END:VEVENT
BEGIN:VEVENT
DTSTART;TZID=Europe/Berlin:20260724T130000
DTEND;TZID=Europe/Berlin:20260724T140000
DTSTAMP:20260422T160926
CREATED:20250805T140924Z
LAST-MODIFIED:20250805T140924Z
UID:14161-1784898000-1784901600@diekulturmacherin.de
SUMMARY:Alerhand Getrixe
DESCRIPTION:
URL:https://diekulturmacherin.de/termin/alerhand-getrixe/
LOCATION:München
END:VEVENT
BEGIN:VEVENT
DTSTART;TZID=Europe/Berlin:20260730T160000
DTEND;TZID=Europe/Berlin:20260730T170000
DTSTAMP:20260422T160926
CREATED:20250221T113811Z
LAST-MODIFIED:20250221T113811Z
UID:13119-1785427200-1785430800@diekulturmacherin.de
SUMMARY:Clara & Rilke
DESCRIPTION:
URL:https://diekulturmacherin.de/termin/clara-rilke-8/
LOCATION:Erkrath
END:VEVENT
BEGIN:VEVENT
DTSTART;TZID=Europe/Berlin:20260731T160000
DTEND;TZID=Europe/Berlin:20260731T170000
DTSTAMP:20260422T160926
CREATED:20250221T113718Z
LAST-MODIFIED:20250221T113718Z
UID:13117-1785513600-1785517200@diekulturmacherin.de
SUMMARY:Coco Chanel
DESCRIPTION:
URL:https://diekulturmacherin.de/termin/coco-chanel-2/
LOCATION:Erkrath
END:VEVENT
BEGIN:VEVENT
DTSTART;TZID=Europe/Berlin:20260804T093000
DTEND;TZID=Europe/Berlin:20260804T110000
DTSTAMP:20260422T160926
CREATED:20251203T170335Z
LAST-MODIFIED:20251203T170335Z
UID:14841-1785835800-1785841200@diekulturmacherin.de
SUMMARY:Egon Eichhorn
DESCRIPTION:
URL:https://diekulturmacherin.de/termin/egon-eichhorn/
LOCATION:Leutkirch
END:VEVENT
BEGIN:VEVENT
DTSTART;TZID=Europe/Berlin:20260804T143000
DTEND;TZID=Europe/Berlin:20260804T163000
DTSTAMP:20260422T160926
CREATED:20251203T170452Z
LAST-MODIFIED:20251203T170452Z
UID:14844-1785853800-1785861000@diekulturmacherin.de
SUMMARY:Egon Eichhorn
DESCRIPTION:
URL:https://diekulturmacherin.de/termin/egon-eichhorn-2/
LOCATION:Ertingen
END:VEVENT
BEGIN:VEVENT
DTSTART;TZID=Europe/Berlin:20260805T093000
DTEND;TZID=Europe/Berlin:20260805T110000
DTSTAMP:20260422T160926
CREATED:20251203T170555Z
LAST-MODIFIED:20251203T170555Z
UID:14847-1785922200-1785927600@diekulturmacherin.de
SUMMARY:Egon Eichhorn und der wilde Müll im Wald
DESCRIPTION:
URL:https://diekulturmacherin.de/termin/egon-eichhorn-und-der-wilde-muell-im-wald-2/
LOCATION:Sigmaringen
END:VEVENT
BEGIN:VEVENT
DTSTART;TZID=Europe/Berlin:20260805T150000
DTEND;TZID=Europe/Berlin:20260805T170000
DTSTAMP:20260422T160926
CREATED:20251203T170722Z
LAST-MODIFIED:20251203T170722Z
UID:14850-1785942000-1785949200@diekulturmacherin.de
SUMMARY:Egon Eichhorn und der wilde Müll im Wald
DESCRIPTION:
URL:https://diekulturmacherin.de/termin/egon-eichhorn-und-der-wilde-muell-im-wald-3/
LOCATION:Waldorfhäslach
END:VEVENT
BEGIN:VEVENT
DTSTART;TZID=Europe/Berlin:20260806T093000
DTEND;TZID=Europe/Berlin:20260806T110000
DTSTAMP:20260422T160926
CREATED:20251203T170854Z
LAST-MODIFIED:20251203T170854Z
UID:14853-1786008600-1786014000@diekulturmacherin.de
SUMMARY:Egon Eichhorn und der wilde Müll im Wald
DESCRIPTION:
URL:https://diekulturmacherin.de/termin/egon-eichhorn-und-der-wilde-muell-im-wald-4/
LOCATION:Pliezhausen
END:VEVENT
BEGIN:VEVENT
DTSTART;TZID=Europe/Berlin:20260827T183000
DTEND;TZID=Europe/Berlin:20260827T190000
DTSTAMP:20260422T160926
CREATED:20250611T100451Z
LAST-MODIFIED:20250611T100451Z
UID:13804-1787855400-1787857200@diekulturmacherin.de
SUMMARY:Auf den Spuren von Sherlock Holmes
DESCRIPTION:
URL:https://diekulturmacherin.de/termin/auf-den-spuren-von-sherlock-holmes/
LOCATION:Sonneberg
END:VEVENT
BEGIN:VEVENT
DTSTART;TZID=Europe/Berlin:20260828T193000
DTEND;TZID=Europe/Berlin:20260828T200000
DTSTAMP:20260422T160926
CREATED:20260303T113830Z
LAST-MODIFIED:20260303T113830Z
UID:15484-1787945400-1787947200@diekulturmacherin.de
SUMMARY:Brombeerblaue Tage
DESCRIPTION:
URL:https://diekulturmacherin.de/termin/brombeerblaue-tage/
LOCATION:Oberkrämer
END:VEVENT
BEGIN:VEVENT
DTSTART;TZID=Europe/Berlin:20260903T163000
DTEND;TZID=Europe/Berlin:20260903T173000
DTSTAMP:20260422T160926
CREATED:20260113T102137Z
LAST-MODIFIED:20260113T102137Z
UID:15028-1788453000-1788456600@diekulturmacherin.de
SUMMARY:Fantomaus - Plötzlich Superheld
DESCRIPTION:
URL:https://diekulturmacherin.de/termin/fantomaus-ploetzlich-superheld-10/
LOCATION:Wittenberg
END:VEVENT
BEGIN:VEVENT
DTSTART;TZID=Europe/Berlin:20260904T100000
DTEND;TZID=Europe/Berlin:20260904T110000
DTSTAMP:20260422T160926
CREATED:20260203T112950Z
LAST-MODIFIED:20260203T112950Z
UID:15239-1788516000-1788519600@diekulturmacherin.de
SUMMARY:Die wilden Kerle
DESCRIPTION:
URL:https://diekulturmacherin.de/termin/die-wilden-kerle-293/
LOCATION:Bergneustadt
END:VEVENT
BEGIN:VEVENT
DTSTART;TZID=Europe/Berlin:20260904T160000
DTEND;TZID=Europe/Berlin:20260904T170000
DTSTAMP:20260422T160926
CREATED:20260203T113104Z
LAST-MODIFIED:20260203T113104Z
UID:15241-1788537600-1788541200@diekulturmacherin.de
SUMMARY:Die wilden Kerle
DESCRIPTION:
URL:https://diekulturmacherin.de/termin/die-wilden-kerle-294/
LOCATION:Bergneustadt
END:VEVENT
END:VCALENDAR