BEGIN:VCALENDAR
VERSION:2.0
PRODID:-//DieKulturMacherin - ECPv6.15.20//NONSGML v1.0//EN
CALSCALE:GREGORIAN
METHOD:PUBLISH
X-ORIGINAL-URL:https://diekulturmacherin.de
X-WR-CALDESC:Veranstaltungen für DieKulturMacherin
REFRESH-INTERVAL;VALUE=DURATION:PT1H
X-Robots-Tag:noindex
X-PUBLISHED-TTL:PT1H
BEGIN:VTIMEZONE
TZID:Europe/Berlin
BEGIN:DAYLIGHT
TZOFFSETFROM:+0100
TZOFFSETTO:+0200
TZNAME:CEST
DTSTART:20250330T010000
END:DAYLIGHT
BEGIN:STANDARD
TZOFFSETFROM:+0200
TZOFFSETTO:+0100
TZNAME:CET
DTSTART:20251026T010000
END:STANDARD
BEGIN:DAYLIGHT
TZOFFSETFROM:+0100
TZOFFSETTO:+0200
TZNAME:CEST
DTSTART:20260329T010000
END:DAYLIGHT
BEGIN:STANDARD
TZOFFSETFROM:+0200
TZOFFSETTO:+0100
TZNAME:CET
DTSTART:20261025T010000
END:STANDARD
BEGIN:DAYLIGHT
TZOFFSETFROM:+0100
TZOFFSETTO:+0200
TZNAME:CEST
DTSTART:20270328T010000
END:DAYLIGHT
BEGIN:STANDARD
TZOFFSETFROM:+0200
TZOFFSETTO:+0100
TZNAME:CET
DTSTART:20271031T010000
END:STANDARD
END:VTIMEZONE
BEGIN:VEVENT
DTSTART;TZID=Europe/Berlin:20260421T100000
DTEND;TZID=Europe/Berlin:20260421T110000
DTSTAMP:20260421T212755
CREATED:20260114T084914Z
LAST-MODIFIED:20260114T084914Z
UID:15039-1776765600-1776769200@diekulturmacherin.de
SUMMARY:Ritter Rost
DESCRIPTION:
URL:https://diekulturmacherin.de/termin/ritter-rost-79/
LOCATION:Machtolsheim
END:VEVENT
BEGIN:VEVENT
DTSTART;TZID=Europe/Berlin:20260420T100000
DTEND;TZID=Europe/Berlin:20260420T110000
DTSTAMP:20260421T212755
CREATED:20260209T143740Z
LAST-MODIFIED:20260209T143740Z
UID:15316-1776679200-1776682800@diekulturmacherin.de
SUMMARY:Sophie Scholl - Die letzten Stunden
DESCRIPTION:
URL:https://diekulturmacherin.de/termin/sophie-scholl-die-letzten-stunden-7/
LOCATION:Frankenthal
END:VEVENT
BEGIN:VEVENT
DTSTART;TZID=Europe/Berlin:20260420T100000
DTEND;TZID=Europe/Berlin:20260420T110000
DTSTAMP:20260421T212755
CREATED:20260203T153228Z
LAST-MODIFIED:20260203T153228Z
UID:15256-1776679200-1776682800@diekulturmacherin.de
SUMMARY:Straßenstaub
DESCRIPTION:
URL:https://diekulturmacherin.de/termin/strassenstaub-11/
LOCATION:Korbach
END:VEVENT
BEGIN:VEVENT
DTSTART;TZID=Europe/Berlin:20260420T080000
DTEND;TZID=Europe/Berlin:20260420T090000
DTSTAMP:20260421T212755
CREATED:20260203T153114Z
LAST-MODIFIED:20260203T153114Z
UID:15254-1776672000-1776675600@diekulturmacherin.de
SUMMARY:Straßenstaub
DESCRIPTION:
URL:https://diekulturmacherin.de/termin/strassenstaub-10/
LOCATION:Korbach
END:VEVENT
BEGIN:VEVENT
DTSTART;TZID=Europe/Berlin:20260419T110000
DTEND;TZID=Europe/Berlin:20260419T120000
DTSTAMP:20260421T212755
CREATED:20251030T141043Z
LAST-MODIFIED:20251030T141043Z
UID:14645-1776596400-1776600000@diekulturmacherin.de
SUMMARY:Ich küsse Ihre Hand Madam - Grammophonlesung
DESCRIPTION:
URL:https://diekulturmacherin.de/termin/ich-kuesse-ihre-hand-madam-grammophonlesung/
LOCATION:Osthofen
END:VEVENT
BEGIN:VEVENT
DTSTART;TZID=Europe/Berlin:20260418T193000
DTEND;TZID=Europe/Berlin:20260418T223000
DTSTAMP:20260421T212755
CREATED:20260211T142312Z
LAST-MODIFIED:20260211T142312Z
UID:15344-1776540600-1776551400@diekulturmacherin.de
SUMMARY:E.A. Poe - Es ist das Schlagen dieses fürchterlichen Herzens
DESCRIPTION:
URL:https://diekulturmacherin.de/termin/e-a-poe-es-ist-das-schlagen-dieses-fuerchterlichen-herzens-4/
LOCATION:Giengen an der Brenz
END:VEVENT
BEGIN:VEVENT
DTSTART;TZID=Europe/Berlin:20260418T193000
DTEND;TZID=Europe/Berlin:20260418T210000
DTSTAMP:20260421T212755
CREATED:20251014T133936Z
LAST-MODIFIED:20251014T133936Z
UID:14536-1776540600-1776546000@diekulturmacherin.de
SUMMARY:Rilke Lesung
DESCRIPTION:
URL:https://diekulturmacherin.de/termin/rilke-lesung-13/
LOCATION:Feuchtwangen
END:VEVENT
BEGIN:VEVENT
DTSTART;TZID=Europe/Berlin:20260417T193000
DTEND;TZID=Europe/Berlin:20260417T203000
DTSTAMP:20260421T212755
CREATED:20250311T094627Z
LAST-MODIFIED:20250311T094627Z
UID:13246-1776454200-1776457800@diekulturmacherin.de
SUMMARY:Coco Chanel Lesung
DESCRIPTION:
URL:https://diekulturmacherin.de/termin/coco-chanel-lesung-6/
LOCATION:Abstatt
END:VEVENT
BEGIN:VEVENT
DTSTART;TZID=Europe/Berlin:20260417T160000
DTEND;TZID=Europe/Berlin:20260417T170000
DTSTAMP:20260421T212755
CREATED:20251117T153545Z
LAST-MODIFIED:20251117T153545Z
UID:14715-1776441600-1776445200@diekulturmacherin.de
SUMMARY:Allerhand Getrixe
DESCRIPTION:
URL:https://diekulturmacherin.de/termin/allerhand-getrixe-59/
LOCATION:Kolbermoor
END:VEVENT
BEGIN:VEVENT
DTSTART;TZID=Europe/Berlin:20260417T100000
DTEND;TZID=Europe/Berlin:20260417T110000
DTSTAMP:20260421T212755
CREATED:20260129T164954Z
LAST-MODIFIED:20260129T164954Z
UID:15206-1776420000-1776423600@diekulturmacherin.de
SUMMARY:Ritter Rost Lesung
DESCRIPTION:
URL:https://diekulturmacherin.de/termin/ritter-rost-lesung-28/
LOCATION:Nürnberg
END:VEVENT
BEGIN:VEVENT
DTSTART;TZID=Europe/Berlin:20260416T193000
DTEND;TZID=Europe/Berlin:20260416T203000
DTSTAMP:20260421T212755
CREATED:20250226T140911Z
LAST-MODIFIED:20250226T140923Z
UID:13185-1776367800-1776371400@diekulturmacherin.de
SUMMARY:Unter Kommissaren - Fiktion trifft Realität
DESCRIPTION:
URL:https://diekulturmacherin.de/termin/unter-kommissaren-fiktion-trifft-realitaet-8/
LOCATION:Lüdinghausen
END:VEVENT
BEGIN:VEVENT
DTSTART;TZID=Europe/Berlin:20260416T190000
DTEND;TZID=Europe/Berlin:20260416T210000
DTSTAMP:20260421T212755
CREATED:20250908T144035Z
LAST-MODIFIED:20250908T144035Z
UID:14250-1776366000-1776373200@diekulturmacherin.de
SUMMARY:Rilke Lesung
DESCRIPTION:
URL:https://diekulturmacherin.de/termin/rilke-lesung-9/
LOCATION:Marktheidenfeld
END:VEVENT
BEGIN:VEVENT
DTSTART;TZID=Europe/Berlin:20260416T103000
DTEND;TZID=Europe/Berlin:20260416T113000
DTSTAMP:20260421T212755
CREATED:20260206T121306Z
LAST-MODIFIED:20260206T121306Z
UID:15299-1776335400-1776339000@diekulturmacherin.de
SUMMARY:Hier kommt die Körperpolizei
DESCRIPTION:
URL:https://diekulturmacherin.de/termin/hier-kommt-die-koerperpolizei-13/
LOCATION:Droyßig
END:VEVENT
BEGIN:VEVENT
DTSTART;TZID=Europe/Berlin:20260416T093000
DTEND;TZID=Europe/Berlin:20260416T103000
DTSTAMP:20260421T212755
CREATED:20260206T121152Z
LAST-MODIFIED:20260206T121152Z
UID:15296-1776331800-1776335400@diekulturmacherin.de
SUMMARY:Kleines ABC gegen Stress
DESCRIPTION:
URL:https://diekulturmacherin.de/termin/kleines-abc-gegen-stress-26/
LOCATION:Droyßig
END:VEVENT
BEGIN:VEVENT
DTSTART;TZID=Europe/Berlin:20260415T093000
DTEND;TZID=Europe/Berlin:20260415T103000
DTSTAMP:20260421T212755
CREATED:20251022T072453Z
LAST-MODIFIED:20251022T072453Z
UID:14583-1776245400-1776249000@diekulturmacherin.de
SUMMARY:Sophie Scholl Lesung
DESCRIPTION:
URL:https://diekulturmacherin.de/termin/sophie-scholl-lesung-3/
LOCATION:Rottenburg am Neckar
END:VEVENT
BEGIN:VEVENT
DTSTART;TZID=Europe/Berlin:20260414T193000
DTEND;TZID=Europe/Berlin:20260414T203000
DTSTAMP:20260421T212755
CREATED:20251022T072355Z
LAST-MODIFIED:20251022T072355Z
UID:14581-1776195000-1776198600@diekulturmacherin.de
SUMMARY:Sophie Scholl Lesung
DESCRIPTION:
URL:https://diekulturmacherin.de/termin/sophie-scholl-lesung-2/
LOCATION:Rottenburg am Neckar
END:VEVENT
BEGIN:VEVENT
DTSTART;TZID=Europe/Berlin:20260414T110000
DTEND;TZID=Europe/Berlin:20260414T120000
DTSTAMP:20260421T212755
CREATED:20260316T123702Z
LAST-MODIFIED:20260316T123702Z
UID:15606-1776164400-1776168000@diekulturmacherin.de
SUMMARY:Straßenstaub
DESCRIPTION:
URL:https://diekulturmacherin.de/termin/strassenstaub-15/
LOCATION:Alsendorn
END:VEVENT
BEGIN:VEVENT
DTSTART;TZID=Europe/Berlin:20260414T080000
DTEND;TZID=Europe/Berlin:20260414T090000
DTSTAMP:20260421T212755
CREATED:20260316T123557Z
LAST-MODIFIED:20260316T123557Z
UID:15603-1776153600-1776157200@diekulturmacherin.de
SUMMARY:Straßenstaub
DESCRIPTION:
URL:https://diekulturmacherin.de/termin/strassenstaub-14/
LOCATION:Alsendorn
END:VEVENT
BEGIN:VEVENT
DTSTART;TZID=Europe/Berlin:20260412T150000
DTEND;TZID=Europe/Berlin:20260412T163000
DTSTAMP:20260421T212755
CREATED:20260211T111853Z
LAST-MODIFIED:20260211T111853Z
UID:15336-1776006000-1776011400@diekulturmacherin.de
SUMMARY:Hedi Hummel und die grauen Gärten
DESCRIPTION:
URL:https://diekulturmacherin.de/termin/hedi-hummel-und-die-grauen-gaerten-2/
LOCATION:Köln
END:VEVENT
BEGIN:VEVENT
DTSTART;TZID=Europe/Berlin:20260409T100000
DTEND;TZID=Europe/Berlin:20260409T110000
DTSTAMP:20260421T212755
CREATED:20250402T155131Z
LAST-MODIFIED:20250402T155148Z
UID:13455-1775728800-1775732400@diekulturmacherin.de
SUMMARY:Wir wollen mobbingfrei
DESCRIPTION:
URL:https://diekulturmacherin.de/termin/wir-wollen-mobbingfrei-19/
LOCATION:Meppen
END:VEVENT
BEGIN:VEVENT
DTSTART;TZID=Europe/Berlin:20260406T150000
DTEND;TZID=Europe/Berlin:20260406T163000
DTSTAMP:20260421T212756
CREATED:20260130T091739Z
LAST-MODIFIED:20260130T091739Z
UID:15210-1775487600-1775493000@diekulturmacherin.de
SUMMARY:Das Rap Huhn
DESCRIPTION:
URL:https://diekulturmacherin.de/termin/das-rap-huhn-71/
LOCATION:Chorin
END:VEVENT
BEGIN:VEVENT
DTSTART;TZID=Europe/Berlin:20260330T100000
DTEND;TZID=Europe/Berlin:20260330T110000
DTSTAMP:20260421T212756
CREATED:20260320T081517Z
LAST-MODIFIED:20260320T081517Z
UID:15654-1774864800-1774868400@diekulturmacherin.de
SUMMARY:Die wilden Kerle
DESCRIPTION:
URL:https://diekulturmacherin.de/termin/die-wilden-kerle-318/
LOCATION:Stadtilm
END:VEVENT
BEGIN:VEVENT
DTSTART;TZID=Europe/Berlin:20260330T080000
DTEND;TZID=Europe/Berlin:20260330T090000
DTSTAMP:20260421T212756
CREATED:20260320T081414Z
LAST-MODIFIED:20260320T081414Z
UID:15651-1774857600-1774861200@diekulturmacherin.de
SUMMARY:Die wilden Kerle
DESCRIPTION:
URL:https://diekulturmacherin.de/termin/die-wilden-kerle-317/
LOCATION:Stadtilm
END:VEVENT
BEGIN:VEVENT
DTSTART;TZID=Europe/Berlin:20260327T190000
DTEND;TZID=Europe/Berlin:20260327T200000
DTSTAMP:20260421T212756
CREATED:20250526T095409Z
LAST-MODIFIED:20250526T095409Z
UID:13696-1774638000-1774641600@diekulturmacherin.de
SUMMARY:Tennessee & Alabama - LeseKonzert und Multimedia-Show
DESCRIPTION:
URL:https://diekulturmacherin.de/termin/tennessee-alabama-lesekonzert-und-multimedia-show/
LOCATION:Freren
END:VEVENT
BEGIN:VEVENT
DTSTART;TZID=Europe/Berlin:20260327T173000
DTEND;TZID=Europe/Berlin:20260327T210000
DTSTAMP:20260421T212756
CREATED:20260108T191039Z
LAST-MODIFIED:20260108T191039Z
UID:15012-1774632600-1774645200@diekulturmacherin.de
SUMMARY:Allerhand Getrixe
DESCRIPTION:
URL:https://diekulturmacherin.de/termin/allerhand-getrixe-61/
LOCATION:Straubenhardt
END:VEVENT
BEGIN:VEVENT
DTSTART;TZID=Europe/Berlin:20260327T110000
DTEND;TZID=Europe/Berlin:20260327T120000
DTSTAMP:20260421T212756
CREATED:20250911T122405Z
LAST-MODIFIED:20250911T122405Z
UID:14284-1774609200-1774612800@diekulturmacherin.de
SUMMARY:Die kleine dicke Raupe wird nie satt
DESCRIPTION:
URL:https://diekulturmacherin.de/termin/die-kleine-dicke-raupe-wird-nie-satt-9/
LOCATION:Herten
END:VEVENT
BEGIN:VEVENT
DTSTART;TZID=Europe/Berlin:20260327T100000
DTEND;TZID=Europe/Berlin:20260327T110000
DTSTAMP:20260421T212756
CREATED:20250527T131453Z
LAST-MODIFIED:20250527T131453Z
UID:13734-1774605600-1774609200@diekulturmacherin.de
SUMMARY:Die Traumspinnerin
DESCRIPTION:
URL:https://diekulturmacherin.de/termin/die-traumspinnerin-5/
LOCATION:Teterow
END:VEVENT
BEGIN:VEVENT
DTSTART;TZID=Europe/Berlin:20260327T090000
DTEND;TZID=Europe/Berlin:20260327T100000
DTSTAMP:20260421T212756
CREATED:20250911T122303Z
LAST-MODIFIED:20250911T122303Z
UID:14282-1774602000-1774605600@diekulturmacherin.de
SUMMARY:Die kleine dicke Raupe wird nie satt
DESCRIPTION:
URL:https://diekulturmacherin.de/termin/die-kleine-dicke-raupe-wird-nie-satt-8/
LOCATION:Herten
END:VEVENT
BEGIN:VEVENT
DTSTART;TZID=Europe/Berlin:20260327T090000
DTEND;TZID=Europe/Berlin:20260327T100000
DTSTAMP:20260421T212756
CREATED:20250911T122127Z
LAST-MODIFIED:20250911T122127Z
UID:14278-1774602000-1774605600@diekulturmacherin.de
SUMMARY:Die kleine dicke Raupe wird nie satt
DESCRIPTION:
URL:https://diekulturmacherin.de/termin/die-kleine-dicke-raupe-wird-nie-satt-6/
LOCATION:Herten
END:VEVENT
BEGIN:VEVENT
DTSTART;TZID=Europe/Berlin:20260327T083000
DTEND;TZID=Europe/Berlin:20260327T093000
DTSTAMP:20260421T212756
CREATED:20250527T131349Z
LAST-MODIFIED:20250527T131349Z
UID:13732-1774600200-1774603800@diekulturmacherin.de
SUMMARY:Die Traumspinnerin
DESCRIPTION:
URL:https://diekulturmacherin.de/termin/die-traumspinnerin-4/
LOCATION:Teterow
END:VEVENT
END:VCALENDAR