BEGIN:VCALENDAR
VERSION:2.0
PRODID:-//DieKulturMacherin - ECPv6.15.20//NONSGML v1.0//EN
CALSCALE:GREGORIAN
METHOD:PUBLISH
X-WR-CALNAME:DieKulturMacherin
X-ORIGINAL-URL:https://diekulturmacherin.de
X-WR-CALDESC:Veranstaltungen für DieKulturMacherin
REFRESH-INTERVAL;VALUE=DURATION:PT1H
X-Robots-Tag:noindex
X-PUBLISHED-TTL:PT1H
BEGIN:VTIMEZONE
TZID:Europe/Berlin
BEGIN:DAYLIGHT
TZOFFSETFROM:+0100
TZOFFSETTO:+0200
TZNAME:CEST
DTSTART:20250330T010000
END:DAYLIGHT
BEGIN:STANDARD
TZOFFSETFROM:+0200
TZOFFSETTO:+0100
TZNAME:CET
DTSTART:20251026T010000
END:STANDARD
BEGIN:DAYLIGHT
TZOFFSETFROM:+0100
TZOFFSETTO:+0200
TZNAME:CEST
DTSTART:20260329T010000
END:DAYLIGHT
BEGIN:STANDARD
TZOFFSETFROM:+0200
TZOFFSETTO:+0100
TZNAME:CET
DTSTART:20261025T010000
END:STANDARD
BEGIN:DAYLIGHT
TZOFFSETFROM:+0100
TZOFFSETTO:+0200
TZNAME:CEST
DTSTART:20270328T010000
END:DAYLIGHT
BEGIN:STANDARD
TZOFFSETFROM:+0200
TZOFFSETTO:+0100
TZNAME:CET
DTSTART:20271031T010000
END:STANDARD
END:VTIMEZONE
BEGIN:VEVENT
DTSTART;TZID=Europe/Berlin:20260423T080000
DTEND;TZID=Europe/Berlin:20260423T090000
DTSTAMP:20260423T122513
CREATED:20260128T171039Z
LAST-MODIFIED:20260128T171039Z
UID:15184-1776931200-1776934800@diekulturmacherin.de
SUMMARY:Die wilden Kerle
DESCRIPTION:
URL:https://diekulturmacherin.de/termin/die-wilden-kerle-284/
LOCATION:Freyung
END:VEVENT
BEGIN:VEVENT
DTSTART;TZID=Europe/Berlin:20260423T100000
DTEND;TZID=Europe/Berlin:20260423T110000
DTSTAMP:20260423T122513
CREATED:20260128T171126Z
LAST-MODIFIED:20260128T171126Z
UID:15187-1776938400-1776942000@diekulturmacherin.de
SUMMARY:Die wilden Kerle
DESCRIPTION:
URL:https://diekulturmacherin.de/termin/die-wilden-kerle-285/
LOCATION:Freyung
END:VEVENT
BEGIN:VEVENT
DTSTART;TZID=Europe/Berlin:20260423T160000
DTEND;TZID=Europe/Berlin:20260423T170000
DTSTAMP:20260423T122513
CREATED:20260109T111348Z
LAST-MODIFIED:20260109T111348Z
UID:15016-1776960000-1776963600@diekulturmacherin.de
SUMMARY:Rilke Lesung
DESCRIPTION:
URL:https://diekulturmacherin.de/termin/rilke-lesung-14/
LOCATION:Strausberg
END:VEVENT
BEGIN:VEVENT
DTSTART;TZID=Europe/Berlin:20260423T193000
DTEND;TZID=Europe/Berlin:20260423T203000
DTSTAMP:20260423T122513
CREATED:20250507T135504Z
LAST-MODIFIED:20250507T135504Z
UID:13589-1776972600-1776976200@diekulturmacherin.de
SUMMARY:Das war ... Spitze!
DESCRIPTION:
URL:https://diekulturmacherin.de/termin/das-war-spitze-4/
LOCATION:Cuxhaven
END:VEVENT
BEGIN:VEVENT
DTSTART;TZID=Europe/Berlin:20260423T193000
DTEND;TZID=Europe/Berlin:20260423T213000
DTSTAMP:20260423T122513
CREATED:20250716T131645Z
LAST-MODIFIED:20250716T131645Z
UID:14066-1776972600-1776979800@diekulturmacherin.de
SUMMARY:Grand Hotel Usedom
DESCRIPTION:
URL:https://diekulturmacherin.de/termin/grand-hotel-usedom/
LOCATION:Oyten
END:VEVENT
END:VCALENDAR